BEGIN:VCALENDAR
VERSION:2.0
PRODID:-//Parkinson Partners - ECPv6.15.20//NONSGML v1.0//EN
CALSCALE:GREGORIAN
METHOD:PUBLISH
X-ORIGINAL-URL:https://www.parkinsonpartners.org
X-WR-CALDESC:Events for Parkinson Partners
REFRESH-INTERVAL;VALUE=DURATION:PT1H
X-Robots-Tag:noindex
X-PUBLISHED-TTL:PT1H
BEGIN:VTIMEZONE
TZID:UTC
BEGIN:STANDARD
TZOFFSETFROM:+0000
TZOFFSETTO:+0000
TZNAME:UTC
DTSTART:20210101T000000
END:STANDARD
END:VTIMEZONE
BEGIN:VEVENT
DTSTART;TZID=UTC:20220810T130000
DTEND;TZID=UTC:20220810T140000
DTSTAMP:20260426T000925
CREATED:20220805T234727Z
LAST-MODIFIED:20220809T043347Z
UID:809-1660136400-1660140000@www.parkinsonpartners.org
SUMMARY:Zoom Support Group Meeting
DESCRIPTION:Join Parkinson Partners Zoom Support Group Meeting on August 10th\, 2022 at 1:00 p.m.\nAll are welcome. Join Zoom Meeting: https://us06web.zoom.us/j/93010770942?pwd=bzhTYTgxVElXV0pONnYwbEt5TnZzZz09
URL:https://www.parkinsonpartners.org/event/parkinson-partners-zoom-support-group-meeting/
END:VEVENT
END:VCALENDAR