BEGIN:VCALENDAR
VERSION:2.0
PRODID:-//Parkinson Partners - ECPv6.15.20//NONSGML v1.0//EN
CALSCALE:GREGORIAN
METHOD:PUBLISH
X-ORIGINAL-URL:https://www.parkinsonpartners.org
X-WR-CALDESC:Events for Parkinson Partners
REFRESH-INTERVAL;VALUE=DURATION:PT1H
X-Robots-Tag:noindex
X-PUBLISHED-TTL:PT1H
BEGIN:VTIMEZONE
TZID:UTC
BEGIN:STANDARD
TZOFFSETFROM:+0000
TZOFFSETTO:+0000
TZNAME:UTC
DTSTART:20210101T000000
END:STANDARD
END:VTIMEZONE
BEGIN:VEVENT
DTSTART;TZID=UTC:20221002T130000
DTEND;TZID=UTC:20221002T153000
DTSTAMP:20260425T213700
CREATED:20220806T005300Z
LAST-MODIFIED:20220902T142703Z
UID:849-1664715600-1664724600@www.parkinsonpartners.org
SUMMARY:Living Well with PD Webinar via Zoom
DESCRIPTION:Join Parkinson Partners Living Well with PD Webinar via Zoom October 2nd\, 2022 at 1:00 p.m.\nLiving Well with PD Webinar via Zoom guest speakers UPMC Neurosurgeon Jorge Gonzalez Martinez\, MD and UPMC Hamot Movement Disorder Neurologist Dimitrios Nacopoulos\, MD. Click here to Register.
URL:https://www.parkinsonpartners.org/event/living-well-with-pd-webinar-via-zoom/
END:VEVENT
END:VCALENDAR