BEGIN:VCALENDAR
VERSION:2.0
PRODID:-//Parkinson Partners - ECPv6.15.20//NONSGML v1.0//EN
CALSCALE:GREGORIAN
METHOD:PUBLISH
X-ORIGINAL-URL:https://www.parkinsonpartners.org
X-WR-CALDESC:Events for Parkinson Partners
REFRESH-INTERVAL;VALUE=DURATION:PT1H
X-Robots-Tag:noindex
X-PUBLISHED-TTL:PT1H
BEGIN:VTIMEZONE
TZID:America/New_York
BEGIN:DAYLIGHT
TZOFFSETFROM:-0500
TZOFFSETTO:-0400
TZNAME:EDT
DTSTART:20210314T070000
END:DAYLIGHT
BEGIN:STANDARD
TZOFFSETFROM:-0400
TZOFFSETTO:-0500
TZNAME:EST
DTSTART:20211107T060000
END:STANDARD
BEGIN:DAYLIGHT
TZOFFSETFROM:-0500
TZOFFSETTO:-0400
TZNAME:EDT
DTSTART:20220313T070000
END:DAYLIGHT
BEGIN:STANDARD
TZOFFSETFROM:-0400
TZOFFSETTO:-0500
TZNAME:EST
DTSTART:20221106T060000
END:STANDARD
BEGIN:DAYLIGHT
TZOFFSETFROM:-0500
TZOFFSETTO:-0400
TZNAME:EDT
DTSTART:20230312T070000
END:DAYLIGHT
BEGIN:STANDARD
TZOFFSETFROM:-0400
TZOFFSETTO:-0500
TZNAME:EST
DTSTART:20231105T060000
END:STANDARD
END:VTIMEZONE
BEGIN:VEVENT
DTSTART;TZID=America/New_York:20221004T124500
DTEND;TZID=America/New_York:20221004T131500
DTSTAMP:20260425T213700
CREATED:20220915T211749Z
LAST-MODIFIED:20220915T211749Z
UID:1317-1664887500-1664889300@www.parkinsonpartners.org
SUMMARY:NEW Parkinson’s Walking Program Meeting
DESCRIPTION:NEW Parkinson’s Walking Program Meeting  at the Salvation Army Center\, 1022 Liberty Street (parking lot is on West 11th St.).  Join us as we discuss our new PD Walking Program and provide safety information and tips on getting started with a new walking exercise routine.  If you are unable to make the meeting\, please let us know that you are interested and we will send you the information.  We will also post the information on our website.
URL:https://www.parkinsonpartners.org/event/new-parkinsons-walking-program-meeting/
LOCATION:Salvation Army Center\, 1022 Liberty Street\, Erie\, 16502\, United States
END:VEVENT
END:VCALENDAR