BEGIN:VCALENDAR
VERSION:2.0
PRODID:-//Parkinson Partners - ECPv6.15.20//NONSGML v1.0//EN
CALSCALE:GREGORIAN
METHOD:PUBLISH
X-WR-CALNAME:Parkinson Partners
X-ORIGINAL-URL:https://www.parkinsonpartners.org
X-WR-CALDESC:Events for Parkinson Partners
REFRESH-INTERVAL;VALUE=DURATION:PT1H
X-Robots-Tag:noindex
X-PUBLISHED-TTL:PT1H
BEGIN:VTIMEZONE
TZID:America/New_York
BEGIN:DAYLIGHT
TZOFFSETFROM:-0500
TZOFFSETTO:-0400
TZNAME:EDT
DTSTART:20220313T070000
END:DAYLIGHT
BEGIN:STANDARD
TZOFFSETFROM:-0400
TZOFFSETTO:-0500
TZNAME:EST
DTSTART:20221106T060000
END:STANDARD
BEGIN:DAYLIGHT
TZOFFSETFROM:-0500
TZOFFSETTO:-0400
TZNAME:EDT
DTSTART:20230312T070000
END:DAYLIGHT
BEGIN:STANDARD
TZOFFSETFROM:-0400
TZOFFSETTO:-0500
TZNAME:EST
DTSTART:20231105T060000
END:STANDARD
BEGIN:DAYLIGHT
TZOFFSETFROM:-0500
TZOFFSETTO:-0400
TZNAME:EDT
DTSTART:20240310T070000
END:DAYLIGHT
BEGIN:STANDARD
TZOFFSETFROM:-0400
TZOFFSETTO:-0500
TZNAME:EST
DTSTART:20241103T060000
END:STANDARD
END:VTIMEZONE
BEGIN:VEVENT
DTSTART;TZID=America/New_York:20231004T130000
DTEND;TZID=America/New_York:20231004T140000
DTSTAMP:20260425T094458
CREATED:20230905T144037Z
LAST-MODIFIED:20230905T144037Z
UID:1962-1696424400-1696428000@www.parkinsonpartners.org
SUMMARY:Parkinson Partners Virtual Support Group Meeting
DESCRIPTION:Parkinson Partners Virtual Support Group Meeting \nhttps://us06web.zoom.us/j/93010770942?pwd=bzhTYTgxVElXV0pONnYwbEt5TnZzZz09
URL:https://www.parkinsonpartners.org/event/parkinson-partners-virtual-support-group-meeting-3/
END:VEVENT
BEGIN:VEVENT
DTSTART;TZID=America/New_York:20230928T133000
DTEND;TZID=America/New_York:20230928T143000
DTSTAMP:20260425T094458
CREATED:20230905T143819Z
LAST-MODIFIED:20230905T143819Z
UID:1960-1695907800-1695911400@www.parkinsonpartners.org
SUMMARY:Parkinson Partners Care Partner Support Group
DESCRIPTION:Parkinson Partners Care Partner Support Group \nhttps://us06web.zoom.us/j/96391675305
URL:https://www.parkinsonpartners.org/event/parkinson-partners-care-partner-support-group/
END:VEVENT
BEGIN:VEVENT
DTSTART;TZID=America/New_York:20230925T113000
DTEND;TZID=America/New_York:20230925T123000
DTSTAMP:20260425T094458
CREATED:20230903T045349Z
LAST-MODIFIED:20230903T045349Z
UID:1946-1695641400-1695645000@www.parkinsonpartners.org
SUMMARY:Care Partner Only Lunch
DESCRIPTION:Care Partner Only Lunch: Join other Care Partners for conversation Wegman’s Café\, 6143 Peach Street. \nAll care partners are welcome. \nMonday\, September 25th at 11:30 AM.
URL:https://www.parkinsonpartners.org/event/care-partner-only-lunch-10/
LOCATION:Wegmans – Peach Street\, 6143 Peach Street\, Erie\, PA\, 16509
END:VEVENT
BEGIN:VEVENT
DTSTART;TZID=America/New_York:20230923T160000
DTEND;TZID=America/New_York:20230923T200000
DTSTAMP:20260425T094458
CREATED:20230830T150822Z
LAST-MODIFIED:20230905T143936Z
UID:1883-1695484800-1695499200@www.parkinsonpartners.org
SUMMARY:The Randy Faipler Memorial Foundation Fundraiser Event
DESCRIPTION:RANDY FAIPLER FOUNDATION FUNDRAISER BENEFITTING PARKINSON PARTNERS DATE CHANGE:  \nParkinson Partners has been chosen as the recipient of the proceeds of the Randy Faipler Foundation Fall Fundraiser. Due to a scheduling error at the venue\, the date has been changed to September 23rd from 4:00-8:00 PM.  Tickets will be $25.  Watch your newsletter and email blasts for more information.  You can also go to the Foundation’s Facebook page for updates: https://www.facebook.com/randyfaiplermemorialfoundation/    \n  \n  \nCall Parkinson Partners at 814-899-3030 for tickets. \n \n  \n 
URL:https://www.parkinsonpartners.org/event/the-randy-faipler-memorial-foundation-fundraiser-event/
LOCATION:Polish Falcons\, 431 East 3rd St.\, Erie\, PA\, United States
END:VEVENT
BEGIN:VEVENT
DTSTART;TZID=America/New_York:20230920T130000
DTEND;TZID=America/New_York:20230920T140000
DTSTAMP:20260425T094458
CREATED:20230905T143644Z
LAST-MODIFIED:20230905T143644Z
UID:1958-1695214800-1695218400@www.parkinsonpartners.org
SUMMARY:Parkinson Partners Virtual Support Group Meeting
DESCRIPTION:Parkinson Partners Virtual Support Group Meeting \nhttps://us06web.zoom.us/j/93010770942?pwd=bzhTYTgxVElXV0pONnYwbEt5TnZzZz09 \n 
URL:https://www.parkinsonpartners.org/event/parkinson-partners-virtual-support-group-meeting-2/
END:VEVENT
BEGIN:VEVENT
DTSTART;TZID=America/New_York:20230916T090000
DTEND;TZID=America/New_York:20230916T120000
DTSTAMP:20260425T094458
CREATED:20230830T151554Z
LAST-MODIFIED:20230905T143906Z
UID:1886-1694854800-1694865600@www.parkinsonpartners.org
SUMMARY:MANAGING CHANGING SYMPTOMS: EDUCATIONAL SEMINAR
DESCRIPTION:MANAGING CHANGING SYMPTOMS: EDUCATIONAL SEMINAR: \nSaturday\, September 16th\, Parkinson Partners and the Parkinson’s Foundation will host an educational seminar at Springhill Retirement Community\, 2323 Edinboro Road.  Registration will begin at 9:00 AM with the formal program starting at 9:30 AM. \nThe presentations will be live streamed for those unable to attend in person. Movement Disorder Neurologists Xin Xin Yu\, MD from Cleveland Clinic and Dimitrios Nacopoulos\, MD from UPMC Hamot will be the keynote speakers. \nFor more information or to register go to: https://www.parkinson.org/events/2023/Erie
URL:https://www.parkinsonpartners.org/event/educational-seminar/
LOCATION:SpringHill Senior Living\, 2323 Edinboro Road\, Erie\, PA\, 16509\, United States
END:VEVENT
BEGIN:VEVENT
DTSTART;TZID=America/New_York:20230912T173000
DTEND;TZID=America/New_York:20230912T190000
DTSTAMP:20260425T094458
CREATED:20230830T152429Z
LAST-MODIFIED:20230830T152429Z
UID:1892-1694539800-1694545200@www.parkinsonpartners.org
SUMMARY:Evening PD Support Group
DESCRIPTION:Evening PD Support Group \nSpringhill Retirement Community\, 2323 Edinboro Road.  Tuesday\, September 12th at 6:00 PM (those who are new are welcome to come at 5:30 PM). You are welcome to bring your own take out if you like as we know many of you like sharing a meal together. This is optional. This meeting is for those with PD and their care partners and family.  All are welcome.
URL:https://www.parkinsonpartners.org/event/evening-pd-support-group/
LOCATION:SpringHill Senior Living\, 2323 Edinboro Road\, Erie\, PA\, 16509\, United States
END:VEVENT
BEGIN:VEVENT
DTSTART;TZID=America/New_York:20230906T130000
DTEND;TZID=America/New_York:20230906T140000
DTSTAMP:20260425T094458
CREATED:20230905T143511Z
LAST-MODIFIED:20230905T143511Z
UID:1956-1694005200-1694008800@www.parkinsonpartners.org
SUMMARY:Parkinson Partners Virtual Support Group Meeting
DESCRIPTION:Parkinson Partners Virtual Support Group Meeting \nhttps://us06web.zoom.us/j/93010770942?pwd=bzhTYTgxVElXV0pONnYwbEt5TnZzZz09
URL:https://www.parkinsonpartners.org/event/parkinson-partners-virtual-support-group-meeting/
END:VEVENT
BEGIN:VEVENT
DTSTART;TZID=America/New_York:20230828T113000
DTEND;TZID=America/New_York:20230828T123000
DTSTAMP:20260425T094458
CREATED:20230830T152553Z
LAST-MODIFIED:20230830T152553Z
UID:1894-1693222200-1693225800@www.parkinsonpartners.org
SUMMARY:Care Partner Only Lunch
DESCRIPTION:Care Partner Only Lunch: Join other Care Partners for conversation at Sara’s at Presque Isle on Monday\, August 28th at 11:30 AM. Note: the meeting has been moved to Sara’s for the summer.
URL:https://www.parkinsonpartners.org/event/care-partner-only-lunch-9/
LOCATION:Sara’s Restaurant\, 25 Peninsula Dr.\, Erie\, PA\, 16505\, United States
END:VEVENT
BEGIN:VEVENT
DTSTART;TZID=America/New_York:20230824T133000
DTEND;TZID=America/New_York:20230824T143000
DTSTAMP:20260425T094458
CREATED:20230830T152208Z
LAST-MODIFIED:20230830T152208Z
UID:1890-1692883800-1692887400@www.parkinsonpartners.org
SUMMARY:Parkinson Caregiver Only Support Group Meeting via Zoom
DESCRIPTION:Parkinson Caregiver Only Support Group Meeting via Zoom on Thursday\, August 24th at 1:30 PM.   \nJoin Zoom Meeting: https://zoom.us/j/96391675305?pwd=ZHgxbXhnRS9GTGpKdlpTeURHSjJJdz09
URL:https://www.parkinsonpartners.org/event/parkinson-caregiver-only-support-group-meeting-via-zoom-8/
END:VEVENT
BEGIN:VEVENT
DTSTART;TZID=America/New_York:20230823T130000
DTEND;TZID=America/New_York:20230823T140000
DTSTAMP:20260425T094458
CREATED:20230830T152113Z
LAST-MODIFIED:20230830T152113Z
UID:1888-1692795600-1692799200@www.parkinsonpartners.org
SUMMARY:Parkinson Partners Support Group Meeting via Zoom
DESCRIPTION:Parkinson Partners Support Group Meeting via Zoom on Wednesday\, August 23rd at 1:00 PM. \nJoin Zoom Meeting: https://zoom.us/j/93010770942?pwd=bzhTYTgxVElXV0pONnYwbEt5TnZzZz09
URL:https://www.parkinsonpartners.org/event/parkinson-partners-support-group-meeting-via-zoom-15/
END:VEVENT
BEGIN:VEVENT
DTSTART;TZID=America/New_York:20230821T180000
DTEND;TZID=America/New_York:20230821T200000
DTSTAMP:20260425T094458
CREATED:20230830T150457Z
LAST-MODIFIED:20230830T150457Z
UID:1881-1692640800-1692648000@www.parkinsonpartners.org
SUMMARY:Summer Picnic
DESCRIPTION:Summer Picnic: Our Summer Picnic will be held on Monday\, August 21st from 6:00-8:00 PM at Shade’s Beach Park\, 7000 East Lake Road in Harborcreek.  \nWe will be in the large pavilion so the picnic will be held rain or shine. Parkinson Partners will provide the hot dogs\, buns\, condiments and plates\, napkins and utensils. Please bring your own drinks and a dish to share. \nReservations are required so we can plan for the food.  Please call 814-899-3030 or email info@parkinsonpartners.org by Friday\, August 18th to let us know you are planning to attend. Please make sure to tell us the number attending when you RSVP.
URL:https://www.parkinsonpartners.org/event/summer-picnic/
LOCATION:Shade’s Beach\, 7000 East Lake Road\, Harborcreek\, PA\, 16421\, United States
END:VEVENT
BEGIN:VEVENT
DTSTART;TZID=America/New_York:20230809T130000
DTEND;TZID=America/New_York:20230809T140000
DTSTAMP:20260425T094458
CREATED:20230830T150330Z
LAST-MODIFIED:20230830T150330Z
UID:1879-1691586000-1691589600@www.parkinsonpartners.org
SUMMARY:Parkinson Partners Support Group Meeting via Zoom
DESCRIPTION:Parkinson Partners Support Group Meeting via Zoom on Wednesday\, August 9th at 1:00 PM.  \n Join Zoom Meeting: https://zoom.us/j/93010770942?pwd=bzhTYTgxVElXV0pONnYwbEt5TnZzZz09
URL:https://www.parkinsonpartners.org/event/parkinson-partners-support-group-meeting-via-zoom-14/
END:VEVENT
BEGIN:VEVENT
DTSTART;TZID=America/New_York:20230808T080000
DTEND;TZID=America/New_York:20230808T200000
DTSTAMP:20260425T094458
CREATED:20230807T114342Z
LAST-MODIFIED:20230807T114342Z
UID:1872-1691481600-1691524800@www.parkinsonpartners.org
SUMMARY:Erie Gives
DESCRIPTION:Erie Gives 2023:  Erie Gives will be held on Tuesday\, August 8th from 8:00 AM-8:00 PM. This special day of giving has a prorated match which makes your donation go even further. For more information and for ways to donate check out the Erie Gives website:  https://www.eriegives.org/
URL:https://www.parkinsonpartners.org/event/erie-gives/
END:VEVENT
BEGIN:VEVENT
DTSTART;TZID=America/New_York:20230727T133000
DTEND;TZID=America/New_York:20230727T143000
DTSTAMP:20260425T094458
CREATED:20230830T150109Z
LAST-MODIFIED:20230830T150109Z
UID:1877-1690464600-1690468200@www.parkinsonpartners.org
SUMMARY:Parkinson Caregiver Only Support Group Meeting via Zoom
DESCRIPTION:Parkinson Caregiver Only Support Group Meeting via Zoom on Thursday\, July 27th at 1:30 PM.  \n  \nJoin Zoom Meeting: https://zoom.us/j/96391675305?pwd=ZHgxbXhnRS9GTGpKdlpTeURHSjJJdz09
URL:https://www.parkinsonpartners.org/event/parkinson-caregiver-only-support-group-meeting-via-zoom-7/
END:VEVENT
BEGIN:VEVENT
DTSTART;TZID=America/New_York:20230726T130000
DTEND;TZID=America/New_York:20230726T140000
DTSTAMP:20260425T094458
CREATED:20230714T170228Z
LAST-MODIFIED:20230714T170228Z
UID:1862-1690376400-1690380000@www.parkinsonpartners.org
SUMMARY:Parkinson Partners Support Group Meeting via Zoom
DESCRIPTION:Parkinson Partners Support Group Meeting via Zoom\nParkinson Partners Support Group Meeting via Zoom \n Join Zoom Meeting: https://zoom.us/j/93010770942?pwd=bzhTYTgxVElXV0pONnYwbEt5TnZzZz09
URL:https://www.parkinsonpartners.org/event/parkinson-partners-support-group-meeting-via-zoom-13/
END:VEVENT
BEGIN:VEVENT
DTSTART;TZID=America/New_York:20230724T113000
DTEND;TZID=America/New_York:20230724T123000
DTSTAMP:20260425T094458
CREATED:20230714T170427Z
LAST-MODIFIED:20230714T170427Z
UID:1864-1690198200-1690201800@www.parkinsonpartners.org
SUMMARY:Care Partner Only Lunch
DESCRIPTION:Care Partner Only Lunch\nCare Partner Only Lunch: Join other Care Partners for conversation at Sara’s at Presque Isle on Monday\, June 24th at 11:30 AM. \n  \nNote: the meeting has been moved to Sara’s for the summer.
URL:https://www.parkinsonpartners.org/event/care-partner-only-lunch-8/
LOCATION:Sara’s Restaurant\, 25 Peninsula Dr.\, Erie\, PA\, 16505\, United States
END:VEVENT
BEGIN:VEVENT
DTSTART;TZID=America/New_York:20230712T130000
DTEND;TZID=America/New_York:20230712T140000
DTSTAMP:20260425T094458
CREATED:20230714T170120Z
LAST-MODIFIED:20230714T170120Z
UID:1860-1689166800-1689170400@www.parkinsonpartners.org
SUMMARY:Parkinson Partners Support Group Meeting via Zoom
DESCRIPTION:Parkinson Partners Support Group Meeting via Zoom\nParkinson Partners Support Group Meeting via Zoom \n Join Zoom Meeting: https://zoom.us/j/93010770942?pwd=bzhTYTgxVElXV0pONnYwbEt5TnZzZz09
URL:https://www.parkinsonpartners.org/event/parkinson-partners-support-group-meeting-via-zoom-12/
END:VEVENT
BEGIN:VEVENT
DTSTART;TZID=America/New_York:20230709T080000
DTEND;TZID=America/New_York:20230709T120000
DTSTAMP:20260425T094458
CREATED:20230210T154731Z
LAST-MODIFIED:20230210T154731Z
UID:1681-1688889600-1688904000@www.parkinsonpartners.org
SUMMARY:Great Lakes Cars & Coffee\, Tribute to Elmer "Porky" Chambers
DESCRIPTION:Great Lakes Cars & Coffee\, Tribute to Elmer “Porky” Chambers \nLake Erie Speedway \nSunday\, July 9\, 2023 \n8am-12pm \nhttps://www.lakeeriespeedway.com/great-lakes-cars-coffee
URL:https://www.parkinsonpartners.org/event/great-lakes-cars-coffee-tribute-to-elmer-porky-chambers/
LOCATION:Lake Erie Speedway\, 10700 Delmas Drive\, NorthEast\, PA\, 16428\, United States
END:VEVENT
BEGIN:VEVENT
DTSTART;TZID=America/New_York:20230628T183000
DTEND;TZID=America/New_York:20230628T203000
DTSTAMP:20260425T094458
CREATED:20230608T132627Z
LAST-MODIFIED:20230608T132627Z
UID:1834-1687977000-1687984200@www.parkinsonpartners.org
SUMMARY:Michael J. Fox Documentary\, Still - Showing at Springhill Senior Living
DESCRIPTION:Join us for a showing of the new Michael J. Fox Documentary\, Still on Apple+.  This film follows the life of the beloved actor and advocate Michael J. Fox\, exploring his personal and professional triumphs and travails\, and what happens when an incurable optimist confronts an incurable disease. \nThe movie will be shown in Springhill’s Community Room.  Light refreshments will be served. \nPlease RSVP to Lynne at info@parkinsonpartners.org or 814-899-3030 (call or text). \n  \nWednesday\, June 28th at 6:30 PM at Springhill Senior Living\, 2323 Edinboro Road—
URL:https://www.parkinsonpartners.org/event/michael-j-fox-documentary-still-showing-at-springhill-senior-living/
LOCATION:SpringHill Senior Living\, 2323 Edinboro Road\, Erie\, PA\, 16509\, United States
END:VEVENT
BEGIN:VEVENT
DTSTART;TZID=America/New_York:20230628T130000
DTEND;TZID=America/New_York:20230628T140000
DTSTAMP:20260425T094458
CREATED:20230605T005321Z
LAST-MODIFIED:20230608T131816Z
UID:1824-1687957200-1687960800@www.parkinsonpartners.org
SUMMARY:Parkinson Partners Support Group Meeting via Zoom
DESCRIPTION:Parkinson Partners Support Group Meeting via Zoom \n Join Zoom Meeting: https://zoom.us/j/93010770942?pwd=bzhTYTgxVElXV0pONnYwbEt5TnZzZz09
URL:https://www.parkinsonpartners.org/event/1824/
END:VEVENT
BEGIN:VEVENT
DTSTART;TZID=America/New_York:20230627T100000
DTEND;TZID=America/New_York:20230627T130000
DTSTAMP:20260425T094458
CREATED:20230605T005814Z
LAST-MODIFIED:20230608T133802Z
UID:1830-1687860000-1687870800@www.parkinsonpartners.org
SUMMARY:ERIE VA CAREGIVER AND FAMILY RESOURCE FAIR
DESCRIPTION:ERIE VA CAREGIVER AND FAMILY RESOURCE FAIR: \nJoin the Veterans Health Administration (VHA) Caregiver Support Program on June 27th from 10:00 AM-1:00 PM for an opportunity to learn about the wealth of resources available to caregivers and families of Veterans. Parkinson Partners will be there. Hope to see you there too! \nClick here to read more about the event
URL:https://www.parkinsonpartners.org/event/erie-va-caregiver-and-family-resource-fair/
LOCATION:Erie VA Medical Center\, 135 East 38th Street\, Erie\, PA\, 16504\, United States
END:VEVENT
BEGIN:VEVENT
DTSTART;TZID=America/New_York:20230626T113000
DTEND;TZID=America/New_York:20230626T123000
DTSTAMP:20260425T094458
CREATED:20230605T005559Z
LAST-MODIFIED:20230605T005559Z
UID:1828-1687779000-1687782600@www.parkinsonpartners.org
SUMMARY:Care Partner Only Lunch
DESCRIPTION:Care Partner Only Lunch: Join other Care Partners for conversation at Sara’s at Presque Isle on Monday\, June 26th at 11:30 AM. \n  \nNote: the meeting has been moved to Sara’s for the summer.
URL:https://www.parkinsonpartners.org/event/care-partner-only-lunch-7/
LOCATION:Sara’s Restaurant\, 25 Peninsula Dr.\, Erie\, PA\, 16505\, United States
END:VEVENT
BEGIN:VEVENT
DTSTART;TZID=America/New_York:20230622T133000
DTEND;TZID=America/New_York:20230622T143000
DTSTAMP:20260425T094458
CREATED:20230605T005435Z
LAST-MODIFIED:20230605T005435Z
UID:1826-1687440600-1687444200@www.parkinsonpartners.org
SUMMARY:Parkinson Caregiver Only Support Group Meeting via Zoom
DESCRIPTION:Parkinson Caregiver Only Support Group Meeting via Zoom \n Join Zoom Meeting: https://zoom.us/j/96391675305?pwd=ZHgxbXhnRS9GTGpKdlpTeURHSjJJdz09
URL:https://www.parkinsonpartners.org/event/parkinson-caregiver-only-support-group-meeting-via-zoom-6/
END:VEVENT
BEGIN:VEVENT
DTSTART;TZID=America/New_York:20230614T130000
DTEND;TZID=America/New_York:20230614T140000
DTSTAMP:20260425T094458
CREATED:20230605T005230Z
LAST-MODIFIED:20230608T132033Z
UID:1822-1686747600-1686751200@www.parkinsonpartners.org
SUMMARY:Parkinson Partners Support Group Meeting via Zoom
DESCRIPTION:Parkinson Partners Support Group Meeting via Zoom \nJoin Zoom Meeting: https://zoom.us/j/93010770942?pwd=bzhTYTgxVElXV0pONnYwbEt5TnZzZz09
URL:https://www.parkinsonpartners.org/event/parkinson-partners-support-group-meeting-via-zoom-11/
END:VEVENT
BEGIN:VEVENT
DTSTART;TZID=America/New_York:20230531T130000
DTEND;TZID=America/New_York:20230531T140000
DTSTAMP:20260425T094458
CREATED:20230510T110214Z
LAST-MODIFIED:20230510T110214Z
UID:1809-1685538000-1685541600@www.parkinsonpartners.org
SUMMARY:Parkinson Partners Support Group Meeting via Zoom
DESCRIPTION:Parkinson Partners Support Group Meeting via Zoom on Wednesday\, May 31st at 1:00 PM.  \nJoin Zoom Meeting: https://zoom.us/j/93010770942?pwd=bzhTYTgxVElXV0pONnYwbEt5TnZzZz09
URL:https://www.parkinsonpartners.org/event/parkinson-partners-support-group-meeting-via-zoom-9/
END:VEVENT
BEGIN:VEVENT
DTSTART;TZID=America/New_York:20230525T133000
DTEND;TZID=America/New_York:20230525T143000
DTSTAMP:20260425T094458
CREATED:20230510T110434Z
LAST-MODIFIED:20230510T110434Z
UID:1813-1685021400-1685025000@www.parkinsonpartners.org
SUMMARY:Parkinson Caregiver Only Support Group Meeting via Zoom
DESCRIPTION:Parkinson Caregiver Only Support Group Meeting via Zoom on Thursday\, May 25th at 1:30 PM.   \nJoin Zoom Meeting: https://zoom.us/j/96391675305?pwd=ZHgxbXhnRS9GTGpKdlpTeURHSjJJdz09
URL:https://www.parkinsonpartners.org/event/parkinson-caregiver-only-support-group-meeting-via-zoom-5/
END:VEVENT
BEGIN:VEVENT
DTSTART;TZID=America/New_York:20230522T113000
DTEND;TZID=America/New_York:20230522T123000
DTSTAMP:20260425T094458
CREATED:20230510T110804Z
LAST-MODIFIED:20230510T110804Z
UID:1817-1684755000-1684758600@www.parkinsonpartners.org
SUMMARY:Care Partner Only Lunch
DESCRIPTION:Care Partner Only Lunch: Join other Care Partners for conversation at Sara’s at Presque Isle on Monday\, May 22nd at 11:30 AM. \nNote: the meeting has been moved to Sara’s for the summer.
URL:https://www.parkinsonpartners.org/event/care-partner-only-lunch-6/
LOCATION:Sara’s Restaurant\, 25 Peninsula Dr.\, Erie\, PA\, 16505\, United States
END:VEVENT
BEGIN:VEVENT
DTSTART;TZID=America/New_York:20230517T130000
DTEND;TZID=America/New_York:20230517T140000
DTSTAMP:20260425T094458
CREATED:20230510T110112Z
LAST-MODIFIED:20230510T110112Z
UID:1807-1684328400-1684332000@www.parkinsonpartners.org
SUMMARY:Parkinson Partners Support Group Meeting via Zoom
DESCRIPTION:Parkinson Partners Support Group Meeting via Zoom on Wednesday\, May 17 th at 1:00 PM.  \nJoin Zoom Meeting: https://zoom.us/j/93010770942?pwd=bzhTYTgxVElXV0pONnYwbEt5TnZzZz09
URL:https://www.parkinsonpartners.org/event/parkinson-partners-support-group-meeting-via-zoom-8/
END:VEVENT
BEGIN:VEVENT
DTSTART;TZID=America/New_York:20230509T173000
DTEND;TZID=America/New_York:20230509T190000
DTSTAMP:20260425T094458
CREATED:20230510T110534Z
LAST-MODIFIED:20230510T110846Z
UID:1815-1683653400-1683658800@www.parkinsonpartners.org
SUMMARY:Wegman’s PD Support Group
DESCRIPTION:Wegman’s PD Support Group will meet at the Peach Street Wegman’s on May 9th at 5:30 PM for newer members with the rest of the group joining at 6:00 PM in the dining area. All are welcome.
URL:https://www.parkinsonpartners.org/event/wegmans-pd-support-group-9/
LOCATION:Wegmans – Peach Street\, 6143 Peach Street\, Erie\, PA\, 16509
END:VEVENT
END:VCALENDAR