BEGIN:VCALENDAR
VERSION:2.0
PRODID:-//Parkinson Partners - ECPv6.15.20//NONSGML v1.0//EN
CALSCALE:GREGORIAN
METHOD:PUBLISH
X-WR-CALNAME:Parkinson Partners
X-ORIGINAL-URL:https://www.parkinsonpartners.org
X-WR-CALDESC:Events for Parkinson Partners
REFRESH-INTERVAL;VALUE=DURATION:PT1H
X-Robots-Tag:noindex
X-PUBLISHED-TTL:PT1H
BEGIN:VTIMEZONE
TZID:America/New_York
BEGIN:DAYLIGHT
TZOFFSETFROM:-0500
TZOFFSETTO:-0400
TZNAME:EDT
DTSTART:20240310T070000
END:DAYLIGHT
BEGIN:STANDARD
TZOFFSETFROM:-0400
TZOFFSETTO:-0500
TZNAME:EST
DTSTART:20241103T060000
END:STANDARD
BEGIN:DAYLIGHT
TZOFFSETFROM:-0500
TZOFFSETTO:-0400
TZNAME:EDT
DTSTART:20250309T070000
END:DAYLIGHT
BEGIN:STANDARD
TZOFFSETFROM:-0400
TZOFFSETTO:-0500
TZNAME:EST
DTSTART:20251102T060000
END:STANDARD
BEGIN:DAYLIGHT
TZOFFSETFROM:-0500
TZOFFSETTO:-0400
TZNAME:EDT
DTSTART:20260308T070000
END:DAYLIGHT
BEGIN:STANDARD
TZOFFSETFROM:-0400
TZOFFSETTO:-0500
TZNAME:EST
DTSTART:20261101T060000
END:STANDARD
BEGIN:DAYLIGHT
TZOFFSETFROM:-0500
TZOFFSETTO:-0400
TZNAME:EDT
DTSTART:20270314T070000
END:DAYLIGHT
BEGIN:STANDARD
TZOFFSETFROM:-0400
TZOFFSETTO:-0500
TZNAME:EST
DTSTART:20271107T060000
END:STANDARD
END:VTIMEZONE
BEGIN:VEVENT
DTSTART;TZID=America/New_York:20260304T130000
DTEND;TZID=America/New_York:20260304T140000
DTSTAMP:20260423T180540
CREATED:20260130T164950Z
LAST-MODIFIED:20260130T164950Z
UID:2994-1772629200-1772632800@www.parkinsonpartners.org
SUMMARY:Eastside YMCA PD Support Group
DESCRIPTION:Eastside YMCA PD Support Group:  1:00 PM at Eastside YMCA\, 2101 Nagle Road. All are welcome!
URL:https://www.parkinsonpartners.org/event/eastside-ymca-pd-support-group-20/
LOCATION:YMCA\, 2101 Nagle Road\, Erie\, PA\, 16511\, United States
END:VEVENT
BEGIN:VEVENT
DTSTART;TZID=America/New_York:20260226T133000
DTEND;TZID=America/New_York:20260226T143000
DTSTAMP:20260423T180540
CREATED:20260129T212758Z
LAST-MODIFIED:20260129T212758Z
UID:2976-1772112600-1772116200@www.parkinsonpartners.org
SUMMARY:Caregiver Only Zoom Meeting
DESCRIPTION: Join Zoom Meeting: https://us06web.zoom.us/j/96391675305
URL:https://www.parkinsonpartners.org/event/caregiver-only-zoom-meeting-8/
END:VEVENT
BEGIN:VEVENT
DTSTART;TZID=America/New_York:20260223T113000
DTEND;TZID=America/New_York:20260223T123000
DTSTAMP:20260423T180540
CREATED:20260129T213820Z
LAST-MODIFIED:20260129T213820Z
UID:2984-1771846200-1771849800@www.parkinsonpartners.org
SUMMARY:Care Partner Only Lunch
DESCRIPTION:Care Partner Only Lunch:  at 11:30 AM at Wegman’s Café\, 6143 Peach Street.
URL:https://www.parkinsonpartners.org/event/care-partner-only-lunch-34/
LOCATION:Wegmans – Peach Street\, 6143 Peach Street\, Erie\, PA\, 16509
END:VEVENT
BEGIN:VEVENT
DTSTART;TZID=America/New_York:20260220T190000
DTEND;TZID=America/New_York:20260220T230000
DTSTAMP:20260423T180540
CREATED:20250718T160515Z
LAST-MODIFIED:20260129T214714Z
UID:2783-1771614000-1771628400@www.parkinsonpartners.org
SUMMARY:Rock 'n Country Dance
DESCRIPTION:Save the date!  Click here for information and to purchase tickets! \nFriday\, February 20th from 7:00-11:00 PM at Concourse of Union Station\, 121 West 14th Street. \n 
URL:https://www.parkinsonpartners.org/event/rock-n-country-dance-2025/
LOCATION:Concourse of Union Station\, 121 West 15th Street\, Erie\, PA\, 16501\, United States
ATTACH;FMTTYPE=image/png:https://www.parkinsonpartners.org/wp-content/uploads/2024/09/guitars.png
END:VEVENT
BEGIN:VEVENT
DTSTART;TZID=America/New_York:20260211T130000
DTEND;TZID=America/New_York:20260211T140000
DTSTAMP:20260423T180540
CREATED:20260129T212457Z
LAST-MODIFIED:20260129T212457Z
UID:2972-1770814800-1770818400@www.parkinsonpartners.org
SUMMARY:Parkinson Partners Support Group Meeting
DESCRIPTION:Join Zoom Meeting: https://zoom.us/j/93010770942?pwd=bzhTYTgxVElXV0pONnYwbEt5TnZzZz09
URL:https://www.parkinsonpartners.org/event/parkinson-partners-support-group-meeting-3/
END:VEVENT
BEGIN:VEVENT
DTSTART;TZID=America/New_York:20260210T180000
DTEND;TZID=America/New_York:20260210T193000
DTSTAMP:20260423T180540
CREATED:20260129T213407Z
LAST-MODIFIED:20260129T213407Z
UID:2980-1770746400-1770751800@www.parkinsonpartners.org
SUMMARY:Evening PD Support Group
DESCRIPTION:Evening PD Support Group:  \nSpringhill\, 2323 Edinboro Rd. \nPlease bring a dish and drink if you’d like to join in on a potluck dinner.
URL:https://www.parkinsonpartners.org/event/evening-pd-support-group-9/
LOCATION:SpringHill Senior Living\, 2323 Edinboro Road\, Erie\, PA\, 16509\, United States
END:VEVENT
BEGIN:VEVENT
DTSTART;TZID=America/New_York:20260204T130000
DTEND;TZID=America/New_York:20260204T140000
DTSTAMP:20260423T180540
CREATED:20260129T213142Z
LAST-MODIFIED:20260129T213142Z
UID:2978-1770210000-1770213600@www.parkinsonpartners.org
SUMMARY:Eastside YMCA PD Support Group
DESCRIPTION:Eastside YMCA PD Support Group:  Eastside YMCA\, 2101 Nagle Road. All are welcome!
URL:https://www.parkinsonpartners.org/event/eastside-ymca-pd-support-group-19/
LOCATION:YMCA\, 2101 Nagle Road\, Erie\, PA\, 16511\, United States
END:VEVENT
BEGIN:VEVENT
DTSTART;TZID=America/New_York:20260126T113000
DTEND;TZID=America/New_York:20260126T123000
DTSTAMP:20260423T180540
CREATED:20260129T213644Z
LAST-MODIFIED:20260129T213644Z
UID:2982-1769427000-1769430600@www.parkinsonpartners.org
SUMMARY:Care Partner Only Lunch
DESCRIPTION:Care Partner Only Lunch:  at 11:30 AM at Wegman’s Café\, 6143 Peach Street.
URL:https://www.parkinsonpartners.org/event/care-partner-only-lunch-33/
LOCATION:Wegmans – Peach Street\, 6143 Peach Street\, Erie\, PA\, 16509
END:VEVENT
BEGIN:VEVENT
DTSTART;TZID=America/New_York:20260122T133000
DTEND;TZID=America/New_York:20260122T143000
DTSTAMP:20260423T180540
CREATED:20260129T212617Z
LAST-MODIFIED:20260129T212617Z
UID:2974-1769088600-1769092200@www.parkinsonpartners.org
SUMMARY:Caregiver Only Zoom Meeting
DESCRIPTION: Join Zoom Meeting: https://us06web.zoom.us/j/96391675305
URL:https://www.parkinsonpartners.org/event/caregiver-only-zoom-meeting-7/
END:VEVENT
BEGIN:VEVENT
DTSTART;TZID=America/New_York:20251210T130000
DTEND;TZID=America/New_York:20251210T140000
DTSTAMP:20260423T180540
CREATED:20250718T161716Z
LAST-MODIFIED:20250718T161716Z
UID:2793-1765371600-1765375200@www.parkinsonpartners.org
SUMMARY:Parkinson Partners Support Group Zoom Meeting
DESCRIPTION:Parkinson Partners Support Group Zoom Meeting at 1:00pm \nJoin Zoom Meeting: \nhttps://zoom.us/j/93010770942?pwd=bzhTYTgxVElXV0pONnYwbEt5TnZzZz09
URL:https://www.parkinsonpartners.org/event/parkinson-partners-support-group-zoom-meeting-5/
END:VEVENT
BEGIN:VEVENT
DTSTART;TZID=America/New_York:20251209T180000
DTEND;TZID=America/New_York:20251209T193000
DTSTAMP:20260423T180540
CREATED:20250718T182451Z
LAST-MODIFIED:20250718T182451Z
UID:2829-1765303200-1765308600@www.parkinsonpartners.org
SUMMARY:Evening PD Support Group at Springhill
DESCRIPTION:Evening PD Support Group at Springhill\, 2323 Edinboro Road at 6:00 PM for a pot luck meal and meeting.
URL:https://www.parkinsonpartners.org/event/evening-pd-support-group-at-springhill-4/
LOCATION:SpringHill Senior Living\, 2323 Edinboro Road\, Erie\, PA\, 16509\, United States
END:VEVENT
BEGIN:VEVENT
DTSTART;TZID=America/New_York:20251208T113000
DTEND;TZID=America/New_York:20251208T123000
DTSTAMP:20260423T180540
CREATED:20250718T172407Z
LAST-MODIFIED:20250718T172407Z
UID:2821-1765193400-1765197000@www.parkinsonpartners.org
SUMMARY:Care Partner Only Lunch
DESCRIPTION:Care Partner Only Lunch At Wegman’s\,6143 Peach St.
URL:https://www.parkinsonpartners.org/event/care-partner-only-lunch-31/
LOCATION:Wegmans – Peach Street\, 6143 Peach Street\, Erie\, PA\, 16509
END:VEVENT
BEGIN:VEVENT
DTSTART;TZID=America/New_York:20251203T130000
DTEND;TZID=America/New_York:20251203T140000
DTSTAMP:20260423T180540
CREATED:20250718T171643Z
LAST-MODIFIED:20250718T171716Z
UID:2812-1764766800-1764770400@www.parkinsonpartners.org
SUMMARY:Eastside YMCA PD Support Group
DESCRIPTION:Eastside YMCA PD Support Group at 1:00 PM at Eastside YMCA\, 2101 Nagle Road. All are welcome!
URL:https://www.parkinsonpartners.org/event/eastside-ymca-pd-support-group-18/
LOCATION:YMCA\, 2101 Nagle Road\, Erie\, PA\, 16511\, United States
END:VEVENT
BEGIN:VEVENT
DTSTART;TZID=America/New_York:20251120T133000
DTEND;TZID=America/New_York:20251120T143000
DTSTAMP:20260423T180540
CREATED:20250718T170725Z
LAST-MODIFIED:20250718T200030Z
UID:2802-1763645400-1763649000@www.parkinsonpartners.org
SUMMARY:Caregiver Only Zoom Meeting
DESCRIPTION:Caregiver Only Zoom Meeting at 1:30 pm \nJoin Zoom Meeting: \nhttps://us06web.zoom.us/j/96391675305
URL:https://www.parkinsonpartners.org/event/caregiver-only-zoom-meeting-6/
END:VEVENT
BEGIN:VEVENT
DTSTART;TZID=America/New_York:20251112T130000
DTEND;TZID=America/New_York:20251112T140000
DTSTAMP:20260423T180540
CREATED:20250718T161602Z
LAST-MODIFIED:20250718T161602Z
UID:2791-1762952400-1762956000@www.parkinsonpartners.org
SUMMARY:Parkinson Partners Support Group Zoom Meeting
DESCRIPTION:Parkinson Partners Support Group Zoom Meeting at 1:00pm \nJoin Zoom Meeting: \nhttps://zoom.us/j/93010770942?pwd=bzhTYTgxVElXV0pONnYwbEt5TnZzZz09
URL:https://www.parkinsonpartners.org/event/parkinson-partners-support-group-zoom-meeting-4/
END:VEVENT
BEGIN:VEVENT
DTSTART;TZID=America/New_York:20251111T180000
DTEND;TZID=America/New_York:20251111T193000
DTSTAMP:20260423T180540
CREATED:20250718T182334Z
LAST-MODIFIED:20250718T182359Z
UID:2827-1762884000-1762889400@www.parkinsonpartners.org
SUMMARY:Evening PD Support Group at Springhill
DESCRIPTION:Evening PD Support Group at Springhill\, 2323 Edinboro Road at 6:00 PM for a pot luck meal and meeting.
URL:https://www.parkinsonpartners.org/event/evening-pd-support-group-at-springhill-3/
LOCATION:SpringHill Senior Living\, 2323 Edinboro Road\, Erie\, PA\, 16509\, United States
END:VEVENT
BEGIN:VEVENT
DTSTART;TZID=America/New_York:20251105T130000
DTEND;TZID=America/New_York:20251105T140000
DTSTAMP:20260423T180540
CREATED:20250718T171549Z
LAST-MODIFIED:20250718T171549Z
UID:2810-1762347600-1762351200@www.parkinsonpartners.org
SUMMARY:Eastside YMCA PD Support Group
DESCRIPTION:Eastside YMCA PD Support Group at 1:00 PM at Eastside YMCA\, 2101 Nagle Road. All are welcome!
URL:https://www.parkinsonpartners.org/event/eastside-ymca-pd-support-group-17/
LOCATION:YMCA\, 2101 Nagle Road\, Erie\, PA\, 16511\, United States
END:VEVENT
BEGIN:VEVENT
DTSTART;TZID=America/New_York:20251027T113000
DTEND;TZID=America/New_York:20251027T123000
DTSTAMP:20260423T180540
CREATED:20250718T172109Z
LAST-MODIFIED:20250718T172109Z
UID:2819-1761564600-1761568200@www.parkinsonpartners.org
SUMMARY:Care Partner Only Lunch
DESCRIPTION:Care Partner Only Lunch At Wegman’s\,6143 Peach St.
URL:https://www.parkinsonpartners.org/event/care-partner-only-lunch-30/
LOCATION:Wegmans – Peach Street\, 6143 Peach Street\, Erie\, PA\, 16509
END:VEVENT
BEGIN:VEVENT
DTSTART;TZID=America/New_York:20251023T133000
DTEND;TZID=America/New_York:20251023T143000
DTSTAMP:20260423T180540
CREATED:20250718T170602Z
LAST-MODIFIED:20250718T170602Z
UID:2800-1761226200-1761229800@www.parkinsonpartners.org
SUMMARY:Caregiver Only Zoom Meeting
DESCRIPTION:Caregiver Only Zoom Meeting at 1:30 pm \nJoin Zoom Meeting: \nhttps://us06web.zoom.us/j/96391675305
URL:https://www.parkinsonpartners.org/event/caregiver-only-zoom-meeting-5/
END:VEVENT
BEGIN:VEVENT
DTSTART;TZID=America/New_York:20251008T130000
DTEND;TZID=America/New_York:20251008T140000
DTSTAMP:20260423T180540
CREATED:20250718T161455Z
LAST-MODIFIED:20250718T161455Z
UID:2789-1759928400-1759932000@www.parkinsonpartners.org
SUMMARY:Parkinson Partners Support Group Zoom Meeting
DESCRIPTION:Parkinson Partners Support Group Zoom Meeting at 1:00pm \nJoin Zoom Meeting: \nhttps://zoom.us/j/93010770942?pwd=bzhTYTgxVElXV0pONnYwbEt5TnZzZz09
URL:https://www.parkinsonpartners.org/event/parkinson-partners-support-group-zoom-meeting-3/
END:VEVENT
BEGIN:VEVENT
DTSTART;TZID=America/New_York:20251007T180000
DTEND;TZID=America/New_York:20251007T190000
DTSTAMP:20260423T180540
CREATED:20250718T182153Z
LAST-MODIFIED:20250922T150028Z
UID:2825-1759860000-1759863600@www.parkinsonpartners.org
SUMMARY:Evening PD Support Group at Springhill
DESCRIPTION:Evening PD Support Group at Springhill\, 2323 Edinboro Road at 6:00 PM for a pot luck meal and meeting.
URL:https://www.parkinsonpartners.org/event/evening-pd-support-group-at-springhill-2/
LOCATION:SpringHill Senior Living\, 2323 Edinboro Road\, Erie\, PA\, 16509\, United States
END:VEVENT
BEGIN:VEVENT
DTSTART;TZID=America/New_York:20251001T130000
DTEND;TZID=America/New_York:20251001T140000
DTSTAMP:20260423T180540
CREATED:20250718T171414Z
LAST-MODIFIED:20250718T171414Z
UID:2808-1759323600-1759327200@www.parkinsonpartners.org
SUMMARY:Eastside YMCA PD Support Group
DESCRIPTION:Eastside YMCA PD Support Group at 1:00 PM at Eastside YMCA\, 2101 Nagle Road. All are welcome!
URL:https://www.parkinsonpartners.org/event/eastside-ymca-pd-support-group-16/
LOCATION:YMCA\, 2101 Nagle Road\, Erie\, PA\, 16511\, United States
END:VEVENT
BEGIN:VEVENT
DTSTART;TZID=America/New_York:20250927T090000
DTEND;TZID=America/New_York:20250927T123000
DTSTAMP:20260423T180540
CREATED:20250718T160330Z
LAST-MODIFIED:20250718T160330Z
UID:2781-1758963600-1758976200@www.parkinsonpartners.org
SUMMARY:Living Well with PD September Seminar
DESCRIPTION:Living Well with PD September Seminar \nRegistration begins at 9:00 AM and the formal program will start at 9:30 AM. Guest speakers will be Allegheny Health Network Movement Disorder Neurologist Timothy Leichliter\, MD and UPMC Hamot Movement Disorder Neurologist Dimitrios Nacopoulos\, MD. More information to come.
URL:https://www.parkinsonpartners.org/event/living-well-with-pd-september-seminar/
LOCATION:SpringHill Senior Living\, 2323 Edinboro Road\, Erie\, PA\, 16509\, United States
END:VEVENT
BEGIN:VEVENT
DTSTART;TZID=America/New_York:20250925T133000
DTEND;TZID=America/New_York:20250925T143000
DTSTAMP:20260423T180540
CREATED:20250718T170516Z
LAST-MODIFIED:20250718T170516Z
UID:2798-1758807000-1758810600@www.parkinsonpartners.org
SUMMARY:Caregiver Only Zoom Meeting
DESCRIPTION:Caregiver Only Zoom Meeting at 1:30 pm \nJoin Zoom Meeting: \nhttps://us06web.zoom.us/j/96391675305
URL:https://www.parkinsonpartners.org/event/caregiver-only-zoom-meeting-4/
END:VEVENT
BEGIN:VEVENT
DTSTART;TZID=America/New_York:20250922T113000
DTEND;TZID=America/New_York:20250922T123000
DTSTAMP:20260423T180540
CREATED:20250718T172011Z
LAST-MODIFIED:20250718T172011Z
UID:2817-1758540600-1758544200@www.parkinsonpartners.org
SUMMARY:Care Partner Only Lunch
DESCRIPTION:Care Partner Only Lunch At Wegman’s\,6143 Peach St.
URL:https://www.parkinsonpartners.org/event/care-partner-only-lunch-29/
LOCATION:Wegmans – Peach Street\, 6143 Peach Street\, Erie\, PA\, 16509
END:VEVENT
BEGIN:VEVENT
DTSTART;TZID=America/New_York:20250910T130000
DTEND;TZID=America/New_York:20250910T140000
DTSTAMP:20260423T180540
CREATED:20250718T161401Z
LAST-MODIFIED:20250718T161401Z
UID:2787-1757509200-1757512800@www.parkinsonpartners.org
SUMMARY:Parkinson Partners Support Group Zoom Meeting
DESCRIPTION:Parkinson Partners Support Group Zoom Meeting at 1:00pm \nJoin Zoom Meeting: \nhttps://zoom.us/j/93010770942?pwd=bzhTYTgxVElXV0pONnYwbEt5TnZzZz09
URL:https://www.parkinsonpartners.org/event/parkinson-partners-support-group-zoom-meeting-2/
END:VEVENT
BEGIN:VEVENT
DTSTART;TZID=America/New_York:20250909T180000
DTEND;TZID=America/New_York:20250909T190000
DTSTAMP:20260423T180540
CREATED:20250718T172840Z
LAST-MODIFIED:20250718T182046Z
UID:2823-1757440800-1757444400@www.parkinsonpartners.org
SUMMARY:Evening PD Support Group at Springhill
DESCRIPTION:Evening PD Support Group at Springhill\, 2323 Edinboro Road at 6:00 PM for a pot luck meal and meeting.
URL:https://www.parkinsonpartners.org/event/evening-pd-support-group-at-springhill/
LOCATION:SpringHill Senior Living\, 2323 Edinboro Road\, Erie\, PA\, 16509\, United States
END:VEVENT
BEGIN:VEVENT
DTSTART;TZID=America/New_York:20250903T130000
DTEND;TZID=America/New_York:20250903T140000
DTSTAMP:20260423T180540
CREATED:20250718T171305Z
LAST-MODIFIED:20250718T171305Z
UID:2806-1756904400-1756908000@www.parkinsonpartners.org
SUMMARY:Eastside YMCA PD Support Group
DESCRIPTION:Eastside YMCA PD Support Group at 1:00 PM at Eastside YMCA\, 2101 Nagle Road. All are welcome!
URL:https://www.parkinsonpartners.org/event/eastside-ymca-pd-support-group-15/
LOCATION:YMCA\, 2101 Nagle Road\, Erie\, PA\, 16511\, United States
END:VEVENT
BEGIN:VEVENT
DTSTART;TZID=America/New_York:20250828T133000
DTEND;TZID=America/New_York:20250828T143000
DTSTAMP:20260423T180540
CREATED:20250718T170417Z
LAST-MODIFIED:20250718T170417Z
UID:2796-1756387800-1756391400@www.parkinsonpartners.org
SUMMARY:Caregiver Only Zoom Meeting
DESCRIPTION:Caregiver Only Zoom Meeting at 1:30 pm \nJoin Zoom Meeting: \nhttps://us06web.zoom.us/j/96391675305
URL:https://www.parkinsonpartners.org/event/caregiver-only-zoom-meeting-3/
END:VEVENT
BEGIN:VEVENT
DTSTART;TZID=America/New_York:20250828T133000
DTEND;TZID=America/New_York:20250828T143000
DTSTAMP:20260423T180540
CREATED:20240613T104315Z
LAST-MODIFIED:20240827T211333Z
UID:2354-1756387800-1756391400@www.parkinsonpartners.org
SUMMARY:Parkinson Partners Care Partner Support Group via Zoom
DESCRIPTION:Parkinson Partners Care Partner Support Group \nTime: August 28\, 2025 01:30 PM Eastern Time (US and Canada) \nJoin Zoom Meeting \nhttps://us06web.zoom.us/j/96391675305 \nMeeting ID: 963 9167 5305
URL:https://www.parkinsonpartners.org/event/parkinson-partners-care-partner-support-group-20/
END:VEVENT
END:VCALENDAR