BEGIN:VCALENDAR
VERSION:2.0
PRODID:-//Parkinson Partners - ECPv6.15.20//NONSGML v1.0//EN
CALSCALE:GREGORIAN
METHOD:PUBLISH
X-ORIGINAL-URL:https://www.parkinsonpartners.org
X-WR-CALDESC:Events for Parkinson Partners
REFRESH-INTERVAL;VALUE=DURATION:PT1H
X-Robots-Tag:noindex
X-PUBLISHED-TTL:PT1H
BEGIN:VTIMEZONE
TZID:America/New_York
BEGIN:DAYLIGHT
TZOFFSETFROM:-0500
TZOFFSETTO:-0400
TZNAME:EDT
DTSTART:20250309T070000
END:DAYLIGHT
BEGIN:STANDARD
TZOFFSETFROM:-0400
TZOFFSETTO:-0500
TZNAME:EST
DTSTART:20251102T060000
END:STANDARD
BEGIN:DAYLIGHT
TZOFFSETFROM:-0500
TZOFFSETTO:-0400
TZNAME:EDT
DTSTART:20260308T070000
END:DAYLIGHT
BEGIN:STANDARD
TZOFFSETFROM:-0400
TZOFFSETTO:-0500
TZNAME:EST
DTSTART:20261101T060000
END:STANDARD
BEGIN:DAYLIGHT
TZOFFSETFROM:-0500
TZOFFSETTO:-0400
TZNAME:EDT
DTSTART:20270314T070000
END:DAYLIGHT
BEGIN:STANDARD
TZOFFSETFROM:-0400
TZOFFSETTO:-0500
TZNAME:EST
DTSTART:20271107T060000
END:STANDARD
END:VTIMEZONE
BEGIN:VEVENT
DTSTART;TZID=America/New_York:20260311T130000
DTEND;TZID=America/New_York:20260311T140000
DTSTAMP:20260423T135417
CREATED:20260130T172249Z
LAST-MODIFIED:20260130T172249Z
UID:3004-1773234000-1773237600@www.parkinsonpartners.org
SUMMARY:Parkinson Partners Support Group Meeting
DESCRIPTION:Parkinson Partners Support Group Meeting at 1:00 PM \nJoin Zoom Meeting: https://zoom.us/j/93010770942?pwd=bzhTYTgxVElXV0pONnYwbEt5TnZzZz09
URL:https://www.parkinsonpartners.org/event/parkinson-partners-support-group-meeting-4/
END:VEVENT
BEGIN:VEVENT
DTSTART;TZID=America/New_York:20260323T113000
DTEND;TZID=America/New_York:20260323T123000
DTSTAMP:20260423T135417
CREATED:20260130T171242Z
LAST-MODIFIED:20260130T171242Z
UID:3002-1774265400-1774269000@www.parkinsonpartners.org
SUMMARY:Care Partner Only Lunch
DESCRIPTION:Care Partner Only Lunch: 11:30 AM at Wegman’s Café\, 6143 Peach Street.
URL:https://www.parkinsonpartners.org/event/care-partner-only-lunch-35/
LOCATION:Wegmans – Peach Street\, 6143 Peach Street\, Erie\, PA\, 16509
END:VEVENT
BEGIN:VEVENT
DTSTART;TZID=America/New_York:20260326T133000
DTEND;TZID=America/New_York:20260326T143000
DTSTAMP:20260423T135417
CREATED:20260130T173354Z
LAST-MODIFIED:20260130T173354Z
UID:3008-1774531800-1774535400@www.parkinsonpartners.org
SUMMARY:Caregiver Only Zoom Meeting
DESCRIPTION:Caregiver Only Zoom Meeting at 1:30 PM.   \nJoin Zoom Meeting: https://us06web.zoom.us/j/96391675305
URL:https://www.parkinsonpartners.org/event/caregiver-only-zoom-meeting-9/
END:VEVENT
BEGIN:VEVENT
DTSTART;TZID=America/New_York:20260401T130000
DTEND;TZID=America/New_York:20260401T140000
DTSTAMP:20260423T135417
CREATED:20260130T165233Z
LAST-MODIFIED:20260130T165233Z
UID:2996-1775048400-1775052000@www.parkinsonpartners.org
SUMMARY:Eastside YMCA PD Support Group
DESCRIPTION:Eastside YMCA PD Support Group:  1:00 PM at Eastside YMCA\, 2101 Nagle Road. All are welcome!
URL:https://www.parkinsonpartners.org/event/eastside-ymca-pd-support-group-21/
LOCATION:YMCA\, 2101 Nagle Road\, Erie\, PA\, 16511\, United States
END:VEVENT
BEGIN:VEVENT
DTSTART;TZID=America/New_York:20260408T130000
DTEND;TZID=America/New_York:20260408T140000
DTSTAMP:20260423T135417
CREATED:20260130T172400Z
LAST-MODIFIED:20260130T172400Z
UID:3006-1775653200-1775656800@www.parkinsonpartners.org
SUMMARY:Parkinson Partners Support Group Meeting
DESCRIPTION:Parkinson Partners Support Group Meeting at 1:00 PM \nJoin Zoom Meeting: https://zoom.us/j/93010770942?pwd=bzhTYTgxVElXV0pONnYwbEt5TnZzZz09
URL:https://www.parkinsonpartners.org/event/parkinson-partners-support-group-meeting-5/
END:VEVENT
BEGIN:VEVENT
DTSTART;TZID=America/New_York:20260414T180000
DTEND;TZID=America/New_York:20260414T190000
DTSTAMP:20260423T135417
CREATED:20260130T170254Z
LAST-MODIFIED:20260130T170254Z
UID:3000-1776189600-1776193200@www.parkinsonpartners.org
SUMMARY:Evening PD Support Group
DESCRIPTION:Evening PD Support Group: 6:00 PM at Springhill\, 2323 Edinboro Rd. \nPlease bring a dish and drink if you’d like to join in on a potluck dinner.
URL:https://www.parkinsonpartners.org/event/evening-pd-support-group-11/
END:VEVENT
BEGIN:VEVENT
DTSTART;TZID=America/New_York:20260423T133000
DTEND;TZID=America/New_York:20260423T143000
DTSTAMP:20260423T135417
CREATED:20260130T173452Z
LAST-MODIFIED:20260130T173452Z
UID:3010-1776951000-1776954600@www.parkinsonpartners.org
SUMMARY:Caregiver Only Zoom Meeting
DESCRIPTION:Caregiver Only Zoom Meeting at 1:30 PM.   \nJoin Zoom Meeting: https://us06web.zoom.us/j/96391675305
URL:https://www.parkinsonpartners.org/event/caregiver-only-zoom-meeting-10/
END:VEVENT
BEGIN:VEVENT
DTSTART;TZID=America/New_York:20260427T113000
DTEND;TZID=America/New_York:20260427T123000
DTSTAMP:20260423T135417
CREATED:20260130T212643Z
LAST-MODIFIED:20260130T212643Z
UID:3012-1777289400-1777293000@www.parkinsonpartners.org
SUMMARY:Care Partner Only Lunch
DESCRIPTION:Care Partner Only Lunch: 11:30 AM at Wegman’s Café\, 6143 Peach Street.
URL:https://www.parkinsonpartners.org/event/care-partner-only-lunch-36/
END:VEVENT
END:VCALENDAR