BEGIN:VCALENDAR
VERSION:2.0
PRODID:-//Parkinson Partners - ECPv6.15.20//NONSGML v1.0//EN
CALSCALE:GREGORIAN
METHOD:PUBLISH
X-WR-CALNAME:Parkinson Partners
X-ORIGINAL-URL:https://www.parkinsonpartners.org
X-WR-CALDESC:Events for Parkinson Partners
REFRESH-INTERVAL;VALUE=DURATION:PT1H
X-Robots-Tag:noindex
X-PUBLISHED-TTL:PT1H
BEGIN:VTIMEZONE
TZID:America/New_York
BEGIN:DAYLIGHT
TZOFFSETFROM:-0500
TZOFFSETTO:-0400
TZNAME:EDT
DTSTART:20220313T070000
END:DAYLIGHT
BEGIN:STANDARD
TZOFFSETFROM:-0400
TZOFFSETTO:-0500
TZNAME:EST
DTSTART:20221106T060000
END:STANDARD
BEGIN:DAYLIGHT
TZOFFSETFROM:-0500
TZOFFSETTO:-0400
TZNAME:EDT
DTSTART:20230312T070000
END:DAYLIGHT
BEGIN:STANDARD
TZOFFSETFROM:-0400
TZOFFSETTO:-0500
TZNAME:EST
DTSTART:20231105T060000
END:STANDARD
BEGIN:DAYLIGHT
TZOFFSETFROM:-0500
TZOFFSETTO:-0400
TZNAME:EDT
DTSTART:20240310T070000
END:DAYLIGHT
BEGIN:STANDARD
TZOFFSETFROM:-0400
TZOFFSETTO:-0500
TZNAME:EST
DTSTART:20241103T060000
END:STANDARD
BEGIN:DAYLIGHT
TZOFFSETFROM:-0500
TZOFFSETTO:-0400
TZNAME:EDT
DTSTART:20250309T070000
END:DAYLIGHT
BEGIN:STANDARD
TZOFFSETFROM:-0400
TZOFFSETTO:-0500
TZNAME:EST
DTSTART:20251102T060000
END:STANDARD
END:VTIMEZONE
BEGIN:VEVENT
DTSTART;TZID=America/New_York:20240312T180000
DTEND;TZID=America/New_York:20240312T190000
DTSTAMP:20260424T040353
CREATED:20240306T122516Z
LAST-MODIFIED:20240306T122516Z
UID:2132-1710266400-1710270000@www.parkinsonpartners.org
SUMMARY:Evening PD Support Group
DESCRIPTION:Evening PD Support Group will be held on Tuesday\, March 12th at 6:00 PM at Springhill Retirement Community\, 2323 Edinboro Road (Community Room). \nWe will have a pot luck supper so please RSVP so we can plan. All are welcome.
URL:https://www.parkinsonpartners.org/event/evening-pd-support-group-2/
LOCATION:SpringHill Senior Living\, 2323 Edinboro Road\, Erie\, PA\, 16509\, United States
END:VEVENT
BEGIN:VEVENT
DTSTART;TZID=America/New_York:20240306T130000
DTEND;TZID=America/New_York:20240306T140000
DTSTAMP:20260424T040353
CREATED:20240306T122137Z
LAST-MODIFIED:20240306T122137Z
UID:2126-1709730000-1709733600@www.parkinsonpartners.org
SUMMARY:Parkinson Partners Support Group Meeting via Zoom
DESCRIPTION: March 6th  at 1:00 PM.  \n  \nJoin Zoom Meeting: https://zoom.us/j/93010770942?pwd=bzhTYTgxVElXV0pONnYwbEt5TnZzZz09
URL:https://www.parkinsonpartners.org/event/parkinson-partners-support-group-meeting-via-zoom-16/
LOCATION:PA
END:VEVENT
BEGIN:VEVENT
DTSTART;TZID=America/New_York:20240226T113000
DTEND;TZID=America/New_York:20240226T123000
DTSTAMP:20260424T040353
CREATED:20240131T202118Z
LAST-MODIFIED:20240131T202118Z
UID:2101-1708947000-1708950600@www.parkinsonpartners.org
SUMMARY:Care Partner Only Lunch
DESCRIPTION:Care Partner Only Lunch: \nJoin other Care Partners for conversation \nWegman’s Café\, 6143 Peach Street. \nAll care partners are welcome.
URL:https://www.parkinsonpartners.org/event/care-partner-only-lunch-14/
LOCATION:Wegmans – Peach Street\, 6143 Peach Street\, Erie\, PA\, 16509
END:VEVENT
BEGIN:VEVENT
DTSTART;TZID=America/New_York:20240222T133000
DTEND;TZID=America/New_York:20240222T143000
DTSTAMP:20260424T040353
CREATED:20240131T202255Z
LAST-MODIFIED:20240131T202255Z
UID:2103-1708608600-1708612200@www.parkinsonpartners.org
SUMMARY:Parkinson Partners Care Partner Support Group
DESCRIPTION:Parkinson Partners Care Partner Support Group \nClick to Join Zoom Meeting \nhttps://us06web.zoom.us/j/96391675305
URL:https://www.parkinsonpartners.org/event/parkinson-partners-care-partner-support-group-5/
LOCATION:PA
END:VEVENT
BEGIN:VEVENT
DTSTART;TZID=America/New_York:20240221T130000
DTEND;TZID=America/New_York:20240221T140000
DTSTAMP:20260424T040353
CREATED:20240131T201857Z
LAST-MODIFIED:20240131T201857Z
UID:2099-1708520400-1708524000@www.parkinsonpartners.org
SUMMARY:Parkinson Partners Virtual Support Group Meeting
DESCRIPTION:Parkinson Partners Virtual Support Group Meeting \nClick to Join Zoom Meeting \nhttps://us06web.zoom.us/j/93010770942?pwd=bzhTYTgxVElXV0pONnYwbEt5TnZzZz09
URL:https://www.parkinsonpartners.org/event/parkinson-partners-virtual-support-group-meeting-11/
LOCATION:PA
END:VEVENT
BEGIN:VEVENT
DTSTART;TZID=America/New_York:20240213T173000
DTEND;TZID=America/New_York:20240213T190000
DTSTAMP:20260424T040353
CREATED:20240131T202610Z
LAST-MODIFIED:20240131T202756Z
UID:2105-1707845400-1707850800@www.parkinsonpartners.org
SUMMARY:Parkinson Partners In-person Meeting - Springhill Community Room
DESCRIPTION:Parkinson Partners In-person Meeting:  NEW LOCATION\, Springhill Community Room\, 2323 Edinboro Road \nTuesday\, February 13\, starting at 6:00 PM.  New members are welcome to come at 5:30 PM. \nWe will be having a soup supper if you are interested in sharing a light meal with us.  Please bring your own beverage and a snack or dessert to share if you like. \nReservations are encouraged by not required. \nAll are welcome.
URL:https://www.parkinsonpartners.org/event/2105/
LOCATION:SpringHill Senior Living\, 2323 Edinboro Road\, Erie\, PA\, 16509\, United States
END:VEVENT
BEGIN:VEVENT
DTSTART;TZID=America/New_York:20240207T130000
DTEND;TZID=America/New_York:20240207T140000
DTSTAMP:20260424T040353
CREATED:20240131T201650Z
LAST-MODIFIED:20240131T201650Z
UID:2097-1707310800-1707314400@www.parkinsonpartners.org
SUMMARY:Parkinson Partners Virtual Support Group Meeting
DESCRIPTION:Parkinson Partners Virtual Support Group Meeting \nClick to Join Zoom Meeting \nhttps://us06web.zoom.us/j/93010770942?pwd=bzhTYTgxVElXV0pONnYwbEt5TnZzZz09
URL:https://www.parkinsonpartners.org/event/parkinson-partners-virtual-support-group-meeting-10/
LOCATION:PA
END:VEVENT
BEGIN:VEVENT
DTSTART;TZID=America/New_York:20240125T133000
DTEND;TZID=America/New_York:20240125T143000
DTSTAMP:20260424T040353
CREATED:20231206T220714Z
LAST-MODIFIED:20231206T220742Z
UID:2072-1706189400-1706193000@www.parkinsonpartners.org
SUMMARY:Parkinson Partners Care Partner Support Group
DESCRIPTION:Parkinson Partners Care Partner Support Group \nClick to Join Zoom Meeting \nhttps://us06web.zoom.us/j/96391675305
URL:https://www.parkinsonpartners.org/event/parkinson-partners-care-partner-support-group-4/
LOCATION:PA
END:VEVENT
BEGIN:VEVENT
DTSTART;TZID=America/New_York:20240124T130000
DTEND;TZID=America/New_York:20240124T140000
DTSTAMP:20260424T040353
CREATED:20231206T220628Z
LAST-MODIFIED:20231206T220628Z
UID:2070-1706101200-1706104800@www.parkinsonpartners.org
SUMMARY:Parkinson Partners Virtual Support Group Meeting
DESCRIPTION:Parkinson Partners Virtual Support Group Meeting \nClick to Join Zoom Meeting \nhttps://us06web.zoom.us/j/93010770942?pwd=bzhTYTgxVElXV0pONnYwbEt5TnZzZz09
URL:https://www.parkinsonpartners.org/event/parkinson-partners-virtual-support-group-meeting-9/
LOCATION:PA
END:VEVENT
BEGIN:VEVENT
DTSTART;TZID=America/New_York:20240122T113000
DTEND;TZID=America/New_York:20240122T123000
DTSTAMP:20260424T040353
CREATED:20231206T220954Z
LAST-MODIFIED:20231206T220954Z
UID:2074-1705923000-1705926600@www.parkinsonpartners.org
SUMMARY:Care Partner Only Lunch
DESCRIPTION:Care Partner Only Lunch: Join other Care Partners for conversation Wegman’s Café\, 6143 Peach Street. All care partners are welcome.
URL:https://www.parkinsonpartners.org/event/care-partner-only-lunch-13/
LOCATION:Wegmans – Peach Street\, 6143 Peach Street\, Erie\, PA\, 16509
END:VEVENT
BEGIN:VEVENT
DTSTART;TZID=America/New_York:20240110T130000
DTEND;TZID=America/New_York:20240110T140000
DTSTAMP:20260424T040353
CREATED:20231206T220514Z
LAST-MODIFIED:20231206T220514Z
UID:2068-1704891600-1704895200@www.parkinsonpartners.org
SUMMARY:Parkinson Partners Virtual Support Group Meeting
DESCRIPTION:Parkinson Partners Virtual Support Group Meeting \nClick to Join Zoom Meeting \nhttps://us06web.zoom.us/j/93010770942?pwd=bzhTYTgxVElXV0pONnYwbEt5TnZzZz09
URL:https://www.parkinsonpartners.org/event/parkinson-partners-virtual-support-group-meeting-8/
LOCATION:PA
END:VEVENT
BEGIN:VEVENT
DTSTART;TZID=America/New_York:20240109T173000
DTEND;TZID=America/New_York:20240109T190000
DTSTAMP:20260424T040353
CREATED:20231206T221219Z
LAST-MODIFIED:20231206T221219Z
UID:2076-1704821400-1704826800@www.parkinsonpartners.org
SUMMARY:Parkinson Partners In-person Meeting
DESCRIPTION:Parkinson Partners In-person Meeting:  NEW LOCATION\, Springhill Community Room\, 2323 Edinboro Road \nTuesday\, January 9th at 6:00 PM.  New members are welcome to come at 5:30 PM.    Bring your own beverage and a snack to share if you like.  All are welcome.
URL:https://www.parkinsonpartners.org/event/parkinson-partners-in-person-meeting-4/
LOCATION:SpringHill Senior Living\, 2323 Edinboro Road\, Erie\, PA\, 16509\, United States
END:VEVENT
BEGIN:VEVENT
DTSTART;TZID=America/New_York:20231213T130000
DTEND;TZID=America/New_York:20231213T140000
DTSTAMP:20260424T040353
CREATED:20231204T121331Z
LAST-MODIFIED:20231204T121331Z
UID:2052-1702472400-1702476000@www.parkinsonpartners.org
SUMMARY:Parkinson Partners Virtual Support Group Meeting
DESCRIPTION:Parkinson Partners Virtual Support Group Meeting \nClick to Join Zoom Meeting \nhttps://us06web.zoom.us/j/93010770942?pwd=bzhTYTgxVElXV0pONnYwbEt5TnZzZz09
URL:https://www.parkinsonpartners.org/event/parkinson-partners-virtual-support-group-meeting-7/
LOCATION:PA
END:VEVENT
BEGIN:VEVENT
DTSTART;TZID=America/New_York:20231205T173000
DTEND;TZID=America/New_York:20231205T190000
DTSTAMP:20260424T040353
CREATED:20231204T121157Z
LAST-MODIFIED:20231204T121157Z
UID:2050-1701797400-1701802800@www.parkinsonpartners.org
SUMMARY:Parkinson Partners In-person Meeting:
DESCRIPTION:Parkinson Partners In-person Meeting:\nParkinson Partners In-person Meeting:  NEW LOCATION\, Springhill Community Room\, 2323 Edinboro Road \nTuesday\, December 5th at 6:00 PM.  New members are welcome to come at 5:30 PM.  We will be having a little Christmas party.  Bring your own beverage and a snack to share if you like.  All are welcome.
URL:https://www.parkinsonpartners.org/event/parkinson-partners-in-person-meeting-3/
LOCATION:SpringHill Senior Living\, 2323 Edinboro Road\, Erie\, PA\, 16509\, United States
END:VEVENT
BEGIN:VEVENT
DTSTART;TZID=America/New_York:20231204T113000
DTEND;TZID=America/New_York:20231204T123000
DTSTAMP:20260424T040353
CREATED:20231204T121041Z
LAST-MODIFIED:20231204T121041Z
UID:2048-1701689400-1701693000@www.parkinsonpartners.org
SUMMARY:Care Partner Only Lunch
DESCRIPTION:Care Partner Only Lunch\nCare Partner Only Lunch: Join other Care Partners for conversation Wegman’s Café\, 6143 Peach Street. All care partners are welcome.
URL:https://www.parkinsonpartners.org/event/care-partner-only-lunch-12/
LOCATION:Wegmans – Peach Street\, 6143 Peach Street\, Erie\, PA\, 16509
END:VEVENT
BEGIN:VEVENT
DTSTART;TZID=America/New_York:20231130T133000
DTEND;TZID=America/New_York:20231130T143000
DTSTAMP:20260424T040353
CREATED:20231204T120936Z
LAST-MODIFIED:20231204T120936Z
UID:2046-1701351000-1701354600@www.parkinsonpartners.org
SUMMARY:Parkinson Partners Care Partner Support Group
DESCRIPTION:Parkinson Partners Care Partner Support Group \nClick to Join Zoom Meeting \nhttps://us06web.zoom.us/j/96391675305
URL:https://www.parkinsonpartners.org/event/parkinson-partners-care-partner-support-group-3/
LOCATION:PA
END:VEVENT
BEGIN:VEVENT
DTSTART;TZID=America/New_York:20231129T130000
DTEND;TZID=America/New_York:20231129T140000
DTSTAMP:20260424T040353
CREATED:20231204T120821Z
LAST-MODIFIED:20231204T120821Z
UID:2044-1701262800-1701266400@www.parkinsonpartners.org
SUMMARY:Parkinson Partners Virtual Support Group Meeting
DESCRIPTION:Parkinson Partners Virtual Support Group Meeting \nClick to Join Zoom Meeting \nhttps://us06web.zoom.us/j/93010770942?pwd=bzhTYTgxVElXV0pONnYwbEt5TnZzZz09
URL:https://www.parkinsonpartners.org/event/parkinson-partners-virtual-support-group-meeting-6/
LOCATION:PA
END:VEVENT
BEGIN:VEVENT
DTSTART;TZID=America/New_York:20231115T130000
DTEND;TZID=America/New_York:20231115T140000
DTSTAMP:20260424T040353
CREATED:20231204T120714Z
LAST-MODIFIED:20231204T120714Z
UID:2042-1700053200-1700056800@www.parkinsonpartners.org
SUMMARY:Parkinson Partners Virtual Support Group Meeting
DESCRIPTION:Parkinson Partners Virtual Support Group Meeting \n  \nClick to Join Zoom Meeting \nhttps://us06web.zoom.us/j/93010770942?pwd=bzhTYTgxVElXV0pONnYwbEt5TnZzZz09
URL:https://www.parkinsonpartners.org/event/parkinson-partners-virtual-support-group-meeting-5/
LOCATION:PA
END:VEVENT
BEGIN:VEVENT
DTSTART;TZID=America/New_York:20231114T173000
DTEND;TZID=America/New_York:20231114T190000
DTSTAMP:20260424T040353
CREATED:20231204T120538Z
LAST-MODIFIED:20231204T120538Z
UID:2040-1699983000-1699988400@www.parkinsonpartners.org
SUMMARY:Parkinson Partners In-person Meeting
DESCRIPTION:Parkinson Partners In-person Meeting:  NEW LOCATION\, Springhill Niagara Room\, 2323 Edinboro Road \n New members are welcome to come at 5:30 PM.  If you’d like to bring take out with you to enjoy your dinner with others\, feel free. All are welcome.
URL:https://www.parkinsonpartners.org/event/parkinson-partners-in-person-meeting-2/
LOCATION:SpringHill Senior Living\, 2323 Edinboro Road\, Erie\, PA\, 16509\, United States
END:VEVENT
BEGIN:VEVENT
DTSTART;TZID=America/New_York:20231103T190000
DTEND;TZID=America/New_York:20231103T230000
DTSTAMP:20260424T040353
CREATED:20230925T002611Z
LAST-MODIFIED:20230925T002831Z
UID:1990-1699038000-1699052400@www.parkinsonpartners.org
SUMMARY:Rock 'n Country Dance
DESCRIPTION:Click here for Details and Tickets!
URL:https://www.parkinsonpartners.org/event/rock-n-country-dance/
LOCATION:Concourse of Union Station\, 121 West 15th Street\, Erie\, PA\, 16501\, United States
END:VEVENT
BEGIN:VEVENT
DTSTART;TZID=America/New_York:20231026T133000
DTEND;TZID=America/New_York:20231026T143000
DTSTAMP:20260424T040353
CREATED:20230905T144408Z
LAST-MODIFIED:20230905T144408Z
UID:1966-1698327000-1698330600@www.parkinsonpartners.org
SUMMARY:Parkinson Partners Care Partner Support Group
DESCRIPTION:Parkinson Partners Care Partner Support Group \nhttps://us06web.zoom.us/j/96391675305
URL:https://www.parkinsonpartners.org/event/parkinson-partners-care-partner-support-group-2/
LOCATION:PA
END:VEVENT
BEGIN:VEVENT
DTSTART;TZID=America/New_York:20231023T113000
DTEND;TZID=America/New_York:20231023T123000
DTSTAMP:20260424T040353
CREATED:20230903T045620Z
LAST-MODIFIED:20230903T045620Z
UID:1950-1698060600-1698064200@www.parkinsonpartners.org
SUMMARY:Care Partner Only Lunch
DESCRIPTION:Care Partner Only Lunch: Join other Care Partners for conversation Wegman’s Café\, 6143 Peach Street. All care partners are welcome. \nMonday\, October 23rd  at 11:30 AM.
URL:https://www.parkinsonpartners.org/event/care-partner-only-lunch-11/
LOCATION:Wegmans – Peach Street\, 6143 Peach Street\, Erie\, PA\, 16509
END:VEVENT
BEGIN:VEVENT
DTSTART;TZID=America/New_York:20231018T130000
DTEND;TZID=America/New_York:20231018T140000
DTSTAMP:20260424T040353
CREATED:20230905T144311Z
LAST-MODIFIED:20230905T144311Z
UID:1964-1697634000-1697637600@www.parkinsonpartners.org
SUMMARY:Parkinson Partners Virtual Support Group Meeting
DESCRIPTION:Parkinson Partners Virtual Support Group Meeting \nhttps://us06web.zoom.us/j/93010770942?pwd=bzhTYTgxVElXV0pONnYwbEt5TnZzZz09
URL:https://www.parkinsonpartners.org/event/parkinson-partners-virtual-support-group-meeting-4/
LOCATION:PA
END:VEVENT
BEGIN:VEVENT
DTSTART;TZID=America/New_York:20231010T173000
DTEND;TZID=America/New_York:20231010T190000
DTSTAMP:20260424T040353
CREATED:20230903T045515Z
LAST-MODIFIED:20230903T045515Z
UID:1948-1696959000-1696964400@www.parkinsonpartners.org
SUMMARY:Parkinson Partners In-person Meeting:
DESCRIPTION:Parkinson Partners In-person Meeting:  NEW LOCATION\, Springhill  Community Room\, 2323 Edinboro Road \nTuesday\, October  10th at 6:00 PM.  New members are welcome to come at 5:30 PM.  If you’d like to bring take out with you to enjoy your dinner with others\, feel free. All are welcome.
URL:https://www.parkinsonpartners.org/event/parkinson-partners-in-person-meeting/
LOCATION:SpringHill Senior Living\, 2323 Edinboro Road\, Erie\, PA\, 16509\, United States
END:VEVENT
BEGIN:VEVENT
DTSTART;TZID=America/New_York:20231004T130000
DTEND;TZID=America/New_York:20231004T140000
DTSTAMP:20260424T040353
CREATED:20230905T144037Z
LAST-MODIFIED:20230905T144037Z
UID:1962-1696424400-1696428000@www.parkinsonpartners.org
SUMMARY:Parkinson Partners Virtual Support Group Meeting
DESCRIPTION:Parkinson Partners Virtual Support Group Meeting \nhttps://us06web.zoom.us/j/93010770942?pwd=bzhTYTgxVElXV0pONnYwbEt5TnZzZz09
URL:https://www.parkinsonpartners.org/event/parkinson-partners-virtual-support-group-meeting-3/
LOCATION:PA
END:VEVENT
BEGIN:VEVENT
DTSTART;TZID=America/New_York:20230928T133000
DTEND;TZID=America/New_York:20230928T143000
DTSTAMP:20260424T040353
CREATED:20230905T143819Z
LAST-MODIFIED:20230905T143819Z
UID:1960-1695907800-1695911400@www.parkinsonpartners.org
SUMMARY:Parkinson Partners Care Partner Support Group
DESCRIPTION:Parkinson Partners Care Partner Support Group \nhttps://us06web.zoom.us/j/96391675305
URL:https://www.parkinsonpartners.org/event/parkinson-partners-care-partner-support-group/
LOCATION:PA
END:VEVENT
BEGIN:VEVENT
DTSTART;TZID=America/New_York:20230925T113000
DTEND;TZID=America/New_York:20230925T123000
DTSTAMP:20260424T040353
CREATED:20230903T045349Z
LAST-MODIFIED:20230903T045349Z
UID:1946-1695641400-1695645000@www.parkinsonpartners.org
SUMMARY:Care Partner Only Lunch
DESCRIPTION:Care Partner Only Lunch: Join other Care Partners for conversation Wegman’s Café\, 6143 Peach Street. \nAll care partners are welcome. \nMonday\, September 25th at 11:30 AM.
URL:https://www.parkinsonpartners.org/event/care-partner-only-lunch-10/
LOCATION:Wegmans – Peach Street\, 6143 Peach Street\, Erie\, PA\, 16509
END:VEVENT
BEGIN:VEVENT
DTSTART;TZID=America/New_York:20230923T160000
DTEND;TZID=America/New_York:20230923T200000
DTSTAMP:20260424T040353
CREATED:20230830T150822Z
LAST-MODIFIED:20230905T143936Z
UID:1883-1695484800-1695499200@www.parkinsonpartners.org
SUMMARY:The Randy Faipler Memorial Foundation Fundraiser Event
DESCRIPTION:RANDY FAIPLER FOUNDATION FUNDRAISER BENEFITTING PARKINSON PARTNERS DATE CHANGE:  \nParkinson Partners has been chosen as the recipient of the proceeds of the Randy Faipler Foundation Fall Fundraiser. Due to a scheduling error at the venue\, the date has been changed to September 23rd from 4:00-8:00 PM.  Tickets will be $25.  Watch your newsletter and email blasts for more information.  You can also go to the Foundation’s Facebook page for updates: https://www.facebook.com/randyfaiplermemorialfoundation/    \n  \n  \nCall Parkinson Partners at 814-899-3030 for tickets. \n \n  \n 
URL:https://www.parkinsonpartners.org/event/the-randy-faipler-memorial-foundation-fundraiser-event/
LOCATION:Polish Falcons\, 431 East 3rd St.\, Erie\, PA\, United States
END:VEVENT
BEGIN:VEVENT
DTSTART;TZID=America/New_York:20230920T130000
DTEND;TZID=America/New_York:20230920T140000
DTSTAMP:20260424T040353
CREATED:20230905T143644Z
LAST-MODIFIED:20230905T143644Z
UID:1958-1695214800-1695218400@www.parkinsonpartners.org
SUMMARY:Parkinson Partners Virtual Support Group Meeting
DESCRIPTION:Parkinson Partners Virtual Support Group Meeting \nhttps://us06web.zoom.us/j/93010770942?pwd=bzhTYTgxVElXV0pONnYwbEt5TnZzZz09 \n 
URL:https://www.parkinsonpartners.org/event/parkinson-partners-virtual-support-group-meeting-2/
LOCATION:PA
END:VEVENT
BEGIN:VEVENT
DTSTART;TZID=America/New_York:20230916T090000
DTEND;TZID=America/New_York:20230916T120000
DTSTAMP:20260424T040353
CREATED:20230830T151554Z
LAST-MODIFIED:20230905T143906Z
UID:1886-1694854800-1694865600@www.parkinsonpartners.org
SUMMARY:MANAGING CHANGING SYMPTOMS: EDUCATIONAL SEMINAR
DESCRIPTION:MANAGING CHANGING SYMPTOMS: EDUCATIONAL SEMINAR: \nSaturday\, September 16th\, Parkinson Partners and the Parkinson’s Foundation will host an educational seminar at Springhill Retirement Community\, 2323 Edinboro Road.  Registration will begin at 9:00 AM with the formal program starting at 9:30 AM. \nThe presentations will be live streamed for those unable to attend in person. Movement Disorder Neurologists Xin Xin Yu\, MD from Cleveland Clinic and Dimitrios Nacopoulos\, MD from UPMC Hamot will be the keynote speakers. \nFor more information or to register go to: https://www.parkinson.org/events/2023/Erie
URL:https://www.parkinsonpartners.org/event/educational-seminar/
LOCATION:SpringHill Senior Living\, 2323 Edinboro Road\, Erie\, PA\, 16509\, United States
END:VEVENT
END:VCALENDAR