BEGIN:VCALENDAR
VERSION:2.0
PRODID:-//Parkinson Partners - ECPv6.15.20//NONSGML v1.0//EN
CALSCALE:GREGORIAN
METHOD:PUBLISH
X-WR-CALNAME:Parkinson Partners
X-ORIGINAL-URL:https://www.parkinsonpartners.org
X-WR-CALDESC:Events for Parkinson Partners
REFRESH-INTERVAL;VALUE=DURATION:PT1H
X-Robots-Tag:noindex
X-PUBLISHED-TTL:PT1H
BEGIN:VTIMEZONE
TZID:America/New_York
BEGIN:DAYLIGHT
TZOFFSETFROM:-0500
TZOFFSETTO:-0400
TZNAME:EDT
DTSTART:20210314T070000
END:DAYLIGHT
BEGIN:STANDARD
TZOFFSETFROM:-0400
TZOFFSETTO:-0500
TZNAME:EST
DTSTART:20211107T060000
END:STANDARD
BEGIN:DAYLIGHT
TZOFFSETFROM:-0500
TZOFFSETTO:-0400
TZNAME:EDT
DTSTART:20220313T070000
END:DAYLIGHT
BEGIN:STANDARD
TZOFFSETFROM:-0400
TZOFFSETTO:-0500
TZNAME:EST
DTSTART:20221106T060000
END:STANDARD
BEGIN:DAYLIGHT
TZOFFSETFROM:-0500
TZOFFSETTO:-0400
TZNAME:EDT
DTSTART:20230312T070000
END:DAYLIGHT
BEGIN:STANDARD
TZOFFSETFROM:-0400
TZOFFSETTO:-0500
TZNAME:EST
DTSTART:20231105T060000
END:STANDARD
END:VTIMEZONE
BEGIN:VTIMEZONE
TZID:UTC
BEGIN:STANDARD
TZOFFSETFROM:+0000
TZOFFSETTO:+0000
TZNAME:UTC
DTSTART:20210101T000000
END:STANDARD
END:VTIMEZONE
BEGIN:VEVENT
DTSTART;TZID=America/New_York:20220913T180000
DTEND;TZID=America/New_York:20220913T180000
DTSTAMP:20260425T095824
CREATED:20220912T010603Z
LAST-MODIFIED:20220912T011445Z
UID:1295-1663092000-1663092000@www.parkinsonpartners.org
SUMMARY:Wegman’s PD Support Group
DESCRIPTION:Wegman’s PD Support Group will meet at the Peach Street Wegman’s in the dining area. All are welcome.
URL:https://www.parkinsonpartners.org/event/wegmans-pd-support-group/
LOCATION:Wegmans – Peach Street\, 6143 Peach Street\, Erie\, PA\, 16509
END:VEVENT
BEGIN:VEVENT
DTSTART;TZID=UTC:20220907T130000
DTEND;TZID=UTC:20220907T140000
DTSTAMP:20260425T095824
CREATED:20220806T003736Z
LAST-MODIFIED:20220809T043632Z
UID:840-1662555600-1662559200@www.parkinsonpartners.org
SUMMARY:Zoom Support Group Meeting
DESCRIPTION:Join Parkinson Partners Zoom Support Group Meeting on September 7th\, 2022 at 1:00 p.m.\nAll are welcome. Join Zoom Meeting: https://us06web.zoom.us/j/93010770942?pwd=bzhTYTgxVElXV0pONnYwbEt5TnZzZz09
URL:https://www.parkinsonpartners.org/event/zoom-support-group-meeting-2/
LOCATION:PA
END:VEVENT
BEGIN:VEVENT
DTSTART;TZID=UTC:20220831T113000
DTEND;TZID=UTC:20220831T130000
DTSTAMP:20260425T095824
CREATED:20220806T003603Z
LAST-MODIFIED:20220809T044200Z
UID:837-1661945400-1661950800@www.parkinsonpartners.org
SUMMARY:Care Partners Lunch
DESCRIPTION:Join Parkinson Partners at Sara’s Restaurant at Presque Isle for Care Partners Lunch August 31st\, 2022 at 11:30 a.m.\nAll care partners are welcome. Everyone purchases their own lunch.
URL:https://www.parkinsonpartners.org/event/care-partners-lunch/
LOCATION:Sara’s Restaurant\, 25 Peninsula Dr.\, Erie\, PA\, 16505\, United States
END:VEVENT
BEGIN:VEVENT
DTSTART;TZID=UTC:20220826T120000
DTEND;TZID=UTC:20220826T130000
DTSTAMP:20260425T095824
CREATED:20220806T001857Z
LAST-MODIFIED:20220809T044134Z
UID:829-1661515200-1661518800@www.parkinsonpartners.org
SUMMARY:Rock n' Country Dance Committee Daytime Meeting
DESCRIPTION:Join Parkinson Partners Rock n’ Country Chance Committee Daytime Meeting on August 26th\, 2022 at 12:00 p.m.\nRock n’ Country Chance Committee Daytime Meeting at 12:00 p.m. at Encompass Health Rehabilitation Hospital. Those unable to attend the meeting during the picnic are welcome to attend this daytime meeting to help us plan for the Rock n’ Country Dance Fundraiser.
URL:https://www.parkinsonpartners.org/event/rock-n-country-chance-committee-daytime-meeting/
LOCATION:Encompass Health Rehabilitation Hospital\, 143 East 2nd Street\, Erie\, PA\, 16507\, United States
END:VEVENT
BEGIN:VEVENT
DTSTART;TZID=UTC:20220825T133000
DTEND;TZID=UTC:20220825T143000
DTSTAMP:20260425T095824
CREATED:20220806T003017Z
LAST-MODIFIED:20220809T043609Z
UID:835-1661434200-1661437800@www.parkinsonpartners.org
SUMMARY:Zoom Care Partner Group Meeting
DESCRIPTION:Join Parkinson Partners Zoom Care Partner Support Group Meeting on August 25th\, 2022 at 1:30 p.m.\nAll care partners are welcome. Join Zoom Meeting: https://us06web.zoom.us/j/96391675305?pwd=ZHgxbXhnRS9GTGpKdlpTeURHSjJJdz09
URL:https://www.parkinsonpartners.org/event/zoom-care-partner-group-meeting/
LOCATION:PA
END:VEVENT
BEGIN:VEVENT
DTSTART;TZID=UTC:20220824T130000
DTEND;TZID=UTC:20220824T140000
DTSTAMP:20260425T095824
CREATED:20220806T002646Z
LAST-MODIFIED:20220809T043417Z
UID:833-1661346000-1661349600@www.parkinsonpartners.org
SUMMARY:Zoom Support Group Meeting
DESCRIPTION:Join Parkinson Partners Zoom Support Group Meeting on August 24th\, 2022 at 1:00 p.m.\nAll are welcome. Join Zoom Meeting: https://us06web.zoom.us/j/93010770942?pwd=bzhTYTgxVElXV0pONnYwbEt5TnZzZz09
URL:https://www.parkinsonpartners.org/event/zoom-support-group-meeting/
LOCATION:PA
END:VEVENT
BEGIN:VEVENT
DTSTART;TZID=UTC:20220823T180000
DTEND;TZID=UTC:20220823T200000
DTSTAMP:20260425T095824
CREATED:20220806T000313Z
LAST-MODIFIED:20220809T044052Z
UID:815-1661277600-1661284800@www.parkinsonpartners.org
SUMMARY:Parkinson Partners Summer Picnic
DESCRIPTION:Please join Parkinson Partners at Shade’s Beach Park Large Pavilion on August 23rd\, 2022 at 6:00 p.m.\nParkinson Partners will provide hot dogs\, condiments\, plates\, napkins\, and cutlery. Please bring your own drink and a dish to share. Reservations are required so we can plan for the food. Please call 814-899-3030 or email info@parkinsonpartners.org by Friday\, August 19th\, 2022 to let us know you are planning to attend. Please make sure to tell us the number attending when you RSVP. \nRock n’ Country Chance Committee Meeting will be held during the Summer Picnic. All are welcome. Volunteers are needed to help us plan this important fundraiser.
URL:https://www.parkinsonpartners.org/event/parkinson-partners-summer-picnic/
LOCATION:Shade’s Beach\, 7000 East Lake Road\, Harborcreek\, PA\, 16421\, United States
END:VEVENT
BEGIN:VEVENT
DTSTART;TZID=UTC:20220810T130000
DTEND;TZID=UTC:20220810T140000
DTSTAMP:20260425T095824
CREATED:20220805T234727Z
LAST-MODIFIED:20220809T043347Z
UID:809-1660136400-1660140000@www.parkinsonpartners.org
SUMMARY:Zoom Support Group Meeting
DESCRIPTION:Join Parkinson Partners Zoom Support Group Meeting on August 10th\, 2022 at 1:00 p.m.\nAll are welcome. Join Zoom Meeting: https://us06web.zoom.us/j/93010770942?pwd=bzhTYTgxVElXV0pONnYwbEt5TnZzZz09
URL:https://www.parkinsonpartners.org/event/parkinson-partners-zoom-support-group-meeting/
LOCATION:PA
END:VEVENT
BEGIN:VEVENT
DTSTART;TZID=UTC:20220809T080000
DTEND;TZID=UTC:20220809T200000
DTSTAMP:20260425T095824
CREATED:20220805T233707Z
LAST-MODIFIED:20220805T235325Z
UID:802-1660032000-1660075200@www.parkinsonpartners.org
SUMMARY:Erie Gives Day
DESCRIPTION:Please Support Parkinson Partners During Erie Gives on August 9th\, 2022 from 8 a.m. to 8 p.m.\nGo to Erie Give’s Website from 8:00 a.m. to 8 p.m. to donate to Parkinson Partners of NW PA.
URL:https://www.parkinsonpartners.org/event/erie-gives-day/
LOCATION:PA
END:VEVENT
END:VCALENDAR