BEGIN:VCALENDAR
VERSION:2.0
PRODID:-//Parkinson Partners - ECPv6.15.20//NONSGML v1.0//EN
CALSCALE:GREGORIAN
METHOD:PUBLISH
X-WR-CALNAME:Parkinson Partners
X-ORIGINAL-URL:https://www.parkinsonpartners.org
X-WR-CALDESC:Events for Parkinson Partners
REFRESH-INTERVAL;VALUE=DURATION:PT1H
X-Robots-Tag:noindex
X-PUBLISHED-TTL:PT1H
BEGIN:VTIMEZONE
TZID:America/New_York
BEGIN:DAYLIGHT
TZOFFSETFROM:-0500
TZOFFSETTO:-0400
TZNAME:EDT
DTSTART:20240310T070000
END:DAYLIGHT
BEGIN:STANDARD
TZOFFSETFROM:-0400
TZOFFSETTO:-0500
TZNAME:EST
DTSTART:20241103T060000
END:STANDARD
BEGIN:DAYLIGHT
TZOFFSETFROM:-0500
TZOFFSETTO:-0400
TZNAME:EDT
DTSTART:20250309T070000
END:DAYLIGHT
BEGIN:STANDARD
TZOFFSETFROM:-0400
TZOFFSETTO:-0500
TZNAME:EST
DTSTART:20251102T060000
END:STANDARD
BEGIN:DAYLIGHT
TZOFFSETFROM:-0500
TZOFFSETTO:-0400
TZNAME:EDT
DTSTART:20260308T070000
END:DAYLIGHT
BEGIN:STANDARD
TZOFFSETFROM:-0400
TZOFFSETTO:-0500
TZNAME:EST
DTSTART:20261101T060000
END:STANDARD
END:VTIMEZONE
BEGIN:VEVENT
DTSTART;TZID=America/New_York:20251008T130000
DTEND;TZID=America/New_York:20251008T140000
DTSTAMP:20260423T193317
CREATED:20250718T161455Z
LAST-MODIFIED:20250718T161455Z
UID:2789-1759928400-1759932000@www.parkinsonpartners.org
SUMMARY:Parkinson Partners Support Group Zoom Meeting
DESCRIPTION:Parkinson Partners Support Group Zoom Meeting at 1:00pm \nJoin Zoom Meeting: \nhttps://zoom.us/j/93010770942?pwd=bzhTYTgxVElXV0pONnYwbEt5TnZzZz09
URL:https://www.parkinsonpartners.org/event/parkinson-partners-support-group-zoom-meeting-3/
LOCATION:PA
END:VEVENT
BEGIN:VEVENT
DTSTART;TZID=America/New_York:20251007T180000
DTEND;TZID=America/New_York:20251007T190000
DTSTAMP:20260423T193317
CREATED:20250718T182153Z
LAST-MODIFIED:20250922T150028Z
UID:2825-1759860000-1759863600@www.parkinsonpartners.org
SUMMARY:Evening PD Support Group at Springhill
DESCRIPTION:Evening PD Support Group at Springhill\, 2323 Edinboro Road at 6:00 PM for a pot luck meal and meeting.
URL:https://www.parkinsonpartners.org/event/evening-pd-support-group-at-springhill-2/
LOCATION:SpringHill Senior Living\, 2323 Edinboro Road\, Erie\, PA\, 16509\, United States
END:VEVENT
BEGIN:VEVENT
DTSTART;TZID=America/New_York:20251001T130000
DTEND;TZID=America/New_York:20251001T140000
DTSTAMP:20260423T193317
CREATED:20250718T171414Z
LAST-MODIFIED:20250718T171414Z
UID:2808-1759323600-1759327200@www.parkinsonpartners.org
SUMMARY:Eastside YMCA PD Support Group
DESCRIPTION:Eastside YMCA PD Support Group at 1:00 PM at Eastside YMCA\, 2101 Nagle Road. All are welcome!
URL:https://www.parkinsonpartners.org/event/eastside-ymca-pd-support-group-16/
LOCATION:YMCA\, 2101 Nagle Road\, Erie\, PA\, 16511\, United States
END:VEVENT
BEGIN:VEVENT
DTSTART;TZID=America/New_York:20250927T090000
DTEND;TZID=America/New_York:20250927T123000
DTSTAMP:20260423T193317
CREATED:20250718T160330Z
LAST-MODIFIED:20250718T160330Z
UID:2781-1758963600-1758976200@www.parkinsonpartners.org
SUMMARY:Living Well with PD September Seminar
DESCRIPTION:Living Well with PD September Seminar \nRegistration begins at 9:00 AM and the formal program will start at 9:30 AM. Guest speakers will be Allegheny Health Network Movement Disorder Neurologist Timothy Leichliter\, MD and UPMC Hamot Movement Disorder Neurologist Dimitrios Nacopoulos\, MD. More information to come.
URL:https://www.parkinsonpartners.org/event/living-well-with-pd-september-seminar/
LOCATION:SpringHill Senior Living\, 2323 Edinboro Road\, Erie\, PA\, 16509\, United States
END:VEVENT
BEGIN:VEVENT
DTSTART;TZID=America/New_York:20250925T133000
DTEND;TZID=America/New_York:20250925T143000
DTSTAMP:20260423T193317
CREATED:20250718T170516Z
LAST-MODIFIED:20250718T170516Z
UID:2798-1758807000-1758810600@www.parkinsonpartners.org
SUMMARY:Caregiver Only Zoom Meeting
DESCRIPTION:Caregiver Only Zoom Meeting at 1:30 pm \nJoin Zoom Meeting: \nhttps://us06web.zoom.us/j/96391675305
URL:https://www.parkinsonpartners.org/event/caregiver-only-zoom-meeting-4/
LOCATION:PA
END:VEVENT
BEGIN:VEVENT
DTSTART;TZID=America/New_York:20250922T113000
DTEND;TZID=America/New_York:20250922T123000
DTSTAMP:20260423T193317
CREATED:20250718T172011Z
LAST-MODIFIED:20250718T172011Z
UID:2817-1758540600-1758544200@www.parkinsonpartners.org
SUMMARY:Care Partner Only Lunch
DESCRIPTION:Care Partner Only Lunch At Wegman’s\,6143 Peach St.
URL:https://www.parkinsonpartners.org/event/care-partner-only-lunch-29/
LOCATION:Wegmans – Peach Street\, 6143 Peach Street\, Erie\, PA\, 16509
END:VEVENT
BEGIN:VEVENT
DTSTART;TZID=America/New_York:20250910T130000
DTEND;TZID=America/New_York:20250910T140000
DTSTAMP:20260423T193317
CREATED:20250718T161401Z
LAST-MODIFIED:20250718T161401Z
UID:2787-1757509200-1757512800@www.parkinsonpartners.org
SUMMARY:Parkinson Partners Support Group Zoom Meeting
DESCRIPTION:Parkinson Partners Support Group Zoom Meeting at 1:00pm \nJoin Zoom Meeting: \nhttps://zoom.us/j/93010770942?pwd=bzhTYTgxVElXV0pONnYwbEt5TnZzZz09
URL:https://www.parkinsonpartners.org/event/parkinson-partners-support-group-zoom-meeting-2/
LOCATION:PA
END:VEVENT
BEGIN:VEVENT
DTSTART;TZID=America/New_York:20250909T180000
DTEND;TZID=America/New_York:20250909T190000
DTSTAMP:20260423T193317
CREATED:20250718T172840Z
LAST-MODIFIED:20250718T182046Z
UID:2823-1757440800-1757444400@www.parkinsonpartners.org
SUMMARY:Evening PD Support Group at Springhill
DESCRIPTION:Evening PD Support Group at Springhill\, 2323 Edinboro Road at 6:00 PM for a pot luck meal and meeting.
URL:https://www.parkinsonpartners.org/event/evening-pd-support-group-at-springhill/
LOCATION:SpringHill Senior Living\, 2323 Edinboro Road\, Erie\, PA\, 16509\, United States
END:VEVENT
BEGIN:VEVENT
DTSTART;TZID=America/New_York:20250903T130000
DTEND;TZID=America/New_York:20250903T140000
DTSTAMP:20260423T193317
CREATED:20250718T171305Z
LAST-MODIFIED:20250718T171305Z
UID:2806-1756904400-1756908000@www.parkinsonpartners.org
SUMMARY:Eastside YMCA PD Support Group
DESCRIPTION:Eastside YMCA PD Support Group at 1:00 PM at Eastside YMCA\, 2101 Nagle Road. All are welcome!
URL:https://www.parkinsonpartners.org/event/eastside-ymca-pd-support-group-15/
LOCATION:YMCA\, 2101 Nagle Road\, Erie\, PA\, 16511\, United States
END:VEVENT
BEGIN:VEVENT
DTSTART;TZID=America/New_York:20250828T133000
DTEND;TZID=America/New_York:20250828T143000
DTSTAMP:20260423T193317
CREATED:20250718T170417Z
LAST-MODIFIED:20250718T170417Z
UID:2796-1756387800-1756391400@www.parkinsonpartners.org
SUMMARY:Caregiver Only Zoom Meeting
DESCRIPTION:Caregiver Only Zoom Meeting at 1:30 pm \nJoin Zoom Meeting: \nhttps://us06web.zoom.us/j/96391675305
URL:https://www.parkinsonpartners.org/event/caregiver-only-zoom-meeting-3/
LOCATION:PA
END:VEVENT
BEGIN:VEVENT
DTSTART;TZID=America/New_York:20250828T133000
DTEND;TZID=America/New_York:20250828T143000
DTSTAMP:20260423T193317
CREATED:20240613T104315Z
LAST-MODIFIED:20240827T211333Z
UID:2354-1756387800-1756391400@www.parkinsonpartners.org
SUMMARY:Parkinson Partners Care Partner Support Group via Zoom
DESCRIPTION:Parkinson Partners Care Partner Support Group \nTime: August 28\, 2025 01:30 PM Eastern Time (US and Canada) \nJoin Zoom Meeting \nhttps://us06web.zoom.us/j/96391675305 \nMeeting ID: 963 9167 5305
URL:https://www.parkinsonpartners.org/event/parkinson-partners-care-partner-support-group-20/
LOCATION:PA
END:VEVENT
BEGIN:VEVENT
DTSTART;TZID=America/New_York:20250825T113000
DTEND;TZID=America/New_York:20250825T123000
DTSTAMP:20260423T193317
CREATED:20250718T171850Z
LAST-MODIFIED:20250718T171850Z
UID:2815-1756121400-1756125000@www.parkinsonpartners.org
SUMMARY:Care Partner Only Lunch
DESCRIPTION:Care Partner Only Lunch at 11:30 AM at Sara’s on Presque Isle
URL:https://www.parkinsonpartners.org/event/care-partner-only-lunch-28/
LOCATION:Sara’s Restaurant\, 25 Peninsula Dr.\, Erie\, PA\, 16505\, United States
END:VEVENT
BEGIN:VEVENT
DTSTART;TZID=America/New_York:20250818T180000
DTEND;TZID=America/New_York:20250818T200000
DTSTAMP:20260423T193317
CREATED:20250718T155136Z
LAST-MODIFIED:20250718T155136Z
UID:2778-1755540000-1755547200@www.parkinsonpartners.org
SUMMARY:Parkinson Partners Summer Picnic
DESCRIPTION:
URL:https://www.parkinsonpartners.org/event/parkinson-partners-summer-picnic-2/
LOCATION:Shade’s Beach\, 7000 East Lake Road\, Harborcreek\, PA\, 16421\, United States
END:VEVENT
BEGIN:VEVENT
DTSTART;TZID=America/New_York:20250813T130000
DTEND;TZID=America/New_York:20250813T140000
DTSTAMP:20260423T193317
CREATED:20250718T161231Z
LAST-MODIFIED:20250718T161752Z
UID:2785-1755090000-1755093600@www.parkinsonpartners.org
SUMMARY:Parkinson Partners Support Group  Zoom Meeting
DESCRIPTION:Parkinson Partners Support Group Zoom Meeting at 1:00pm \nJoin Zoom Meeting: \nhttps://zoom.us/j/93010770942?pwd=bzhTYTgxVElXV0pONnYwbEt5TnZzZz09
URL:https://www.parkinsonpartners.org/event/parkinson-partners-support-group-zoom-meeting/
LOCATION:PA
END:VEVENT
BEGIN:VEVENT
DTSTART;VALUE=DATE:20250812
DTEND;VALUE=DATE:20250813
DTSTAMP:20260423T193317
CREATED:20250718T153855Z
LAST-MODIFIED:20250718T182857Z
UID:2769-1754956800-1755043199@www.parkinsonpartners.org
SUMMARY:Erie Gives 2025
DESCRIPTION:Erie Gives 2025 \nTuesday\, August 12th from midnight to midnight. For more information check out our website page for Erie Gives – Click here.   \nClick Here for the check donation form for Erie Gives 2025. Checks must be received by Tuesday\, August 5\, 2025
URL:https://www.parkinsonpartners.org/event/erie-gives-2025/
LOCATION:PA
END:VEVENT
BEGIN:VEVENT
DTSTART;TZID=America/New_York:20250806T130000
DTEND;TZID=America/New_York:20250806T140000
DTSTAMP:20260423T193317
CREATED:20250718T171205Z
LAST-MODIFIED:20250718T171205Z
UID:2804-1754485200-1754488800@www.parkinsonpartners.org
SUMMARY:Eastside YMCA PD Support Group
DESCRIPTION:Eastside YMCA PD Support Group at 1:00 PM at Eastside YMCA\, 2101 Nagle Road. All are welcome!
URL:https://www.parkinsonpartners.org/event/eastside-ymca-pd-support-group-14/
LOCATION:YMCA\, 2101 Nagle Road\, Erie\, PA\, 16511\, United States
END:VEVENT
BEGIN:VEVENT
DTSTART;TZID=America/New_York:20250728T113000
DTEND;TZID=America/New_York:20250728T123000
DTSTAMP:20260423T193317
CREATED:20250718T182719Z
LAST-MODIFIED:20250718T182719Z
UID:2831-1753702200-1753705800@www.parkinsonpartners.org
SUMMARY:Care Partner Only Lunch
DESCRIPTION:Care Partner Only Lunch at 11:30 AM at Sara’s on Presque Isle
URL:https://www.parkinsonpartners.org/event/care-partner-only-lunch-32/
LOCATION:Sara’s Restaurant\, 25 Peninsula Dr.\, Erie\, PA\, 16505\, United States
END:VEVENT
BEGIN:VEVENT
DTSTART;TZID=America/New_York:20250724T133000
DTEND;TZID=America/New_York:20250724T143000
DTSTAMP:20260423T193317
CREATED:20240613T104227Z
LAST-MODIFIED:20240827T211442Z
UID:2352-1753363800-1753367400@www.parkinsonpartners.org
SUMMARY:Parkinson Partners Care Partner Support Group via Zoom
DESCRIPTION:Parkinson Partners Care Partner Support Group \nTime: July 24\, 2025 01:30 PM Eastern Time (US and Canada) \nJoin Zoom Meeting \nhttps://us06web.zoom.us/j/96391675305 \nMeeting ID: 963 9167 5305
URL:https://www.parkinsonpartners.org/event/parkinson-partners-care-partner-support-group-19/
LOCATION:PA
END:VEVENT
BEGIN:VEVENT
DTSTART;TZID=America/New_York:20250626T133000
DTEND;TZID=America/New_York:20250626T143000
DTSTAMP:20260423T193317
CREATED:20240613T104138Z
LAST-MODIFIED:20240827T211533Z
UID:2350-1750944600-1750948200@www.parkinsonpartners.org
SUMMARY:Parkinson Partners Care Partner Support Group via Zoom
DESCRIPTION:Parkinson Partners Care Partner Support Group \nTime: June 26\, 2025 01:30 PM Eastern Time (US and Canada) \nJoin Zoom Meeting \nhttps://us06web.zoom.us/j/96391675305 \nMeeting ID: 963 9167 5305
URL:https://www.parkinsonpartners.org/event/parkinson-partners-care-partner-support-group-18/
LOCATION:PA
END:VEVENT
BEGIN:VEVENT
DTSTART;TZID=America/New_York:20250623T113000
DTEND;TZID=America/New_York:20250623T123000
DTSTAMP:20260423T193317
CREATED:20250201T133624Z
LAST-MODIFIED:20250201T133624Z
UID:2621-1750678200-1750681800@www.parkinsonpartners.org
SUMMARY:Care Partner Only Lunch
DESCRIPTION:Care Partner Only Lunch: Join other Care Partners for conversation at Sara’s on Presque Isle
URL:https://www.parkinsonpartners.org/event/care-partner-only-lunch-27/
LOCATION:Sara’s Restaurant\, 25 Peninsula Dr.\, Erie\, PA\, 16505\, United States
END:VEVENT
BEGIN:VEVENT
DTSTART;TZID=America/New_York:20250610T180000
DTEND;TZID=America/New_York:20250610T190000
DTSTAMP:20260423T193317
CREATED:20250201T131112Z
LAST-MODIFIED:20250201T131448Z
UID:2601-1749578400-1749582000@www.parkinsonpartners.org
SUMMARY:Evening PD Support Group - Springhill Retirement Community
DESCRIPTION:Evening PD Support Group \nSpringhill Retirement Community\, 2323 Edinboro Road (Community Room). \nWe will have a potluck so please bring a snack or dish to share and your own drink if you wish to join in the meal. Feel free to call/text 814-899-3030 for more information.
URL:https://www.parkinsonpartners.org/event/evening-pd-support-group-springhill-retirement-community/
LOCATION:SpringHill Senior Living\, 2323 Edinboro Road\, Erie\, PA\, 16509\, United States
END:VEVENT
BEGIN:VEVENT
DTSTART;TZID=America/New_York:20250604T130000
DTEND;TZID=America/New_York:20250604T140000
DTSTAMP:20260423T193317
CREATED:20250201T130119Z
LAST-MODIFIED:20250205T135730Z
UID:2599-1749042000-1749045600@www.parkinsonpartners.org
SUMMARY:Eastside YMCA PD Support Group
DESCRIPTION:Eastside YMCA PD Support Group: Join us at the Eastside YMCA\, 2101 Nagle Road \nAll are welcome!
URL:https://www.parkinsonpartners.org/event/eastside-ymca-pd-support-group-13/
LOCATION:YMCA\, 2101 Nagle Road\, Erie\, PA\, 16511\, United States
END:VEVENT
BEGIN:VEVENT
DTSTART;TZID=America/New_York:20250522T133000
DTEND;TZID=America/New_York:20250522T143000
DTSTAMP:20260423T193317
CREATED:20240613T104034Z
LAST-MODIFIED:20240827T211644Z
UID:2348-1747920600-1747924200@www.parkinsonpartners.org
SUMMARY:Parkinson Partners Care Partner Support Group via Zoom
DESCRIPTION:Parkinson Partners Care Partner Support Group \nTime: May 22\, 2025 01:30 PM Eastern Time (US and Canada) \nJoin Zoom Meeting \nhttps://us06web.zoom.us/j/96391675305 \nMeeting ID: 963 9167 5305
URL:https://www.parkinsonpartners.org/event/parkinson-partners-care-partner-support-group-17/
LOCATION:PA
END:VEVENT
BEGIN:VEVENT
DTSTART;TZID=America/New_York:20250519T113000
DTEND;TZID=America/New_York:20250519T123000
DTSTAMP:20260423T193317
CREATED:20250201T133429Z
LAST-MODIFIED:20250328T173631Z
UID:2619-1747654200-1747657800@www.parkinsonpartners.org
SUMMARY:Care Partner Only Lunch - Sara’s on Presque Isle
DESCRIPTION:Care Partner Only Lunch: Join other Care Partners for conversation at Sara’s on Presque Isle
URL:https://www.parkinsonpartners.org/event/care-partner-only-lunch-26/
LOCATION:Sara’s Restaurant\, 25 Peninsula Dr.\, Erie\, PA\, 16505\, United States
END:VEVENT
BEGIN:VEVENT
DTSTART;TZID=America/New_York:20250514T130000
DTEND;TZID=America/New_York:20250514T140000
DTSTAMP:20260423T193317
CREATED:20250328T172558Z
LAST-MODIFIED:20250328T172558Z
UID:2680-1747227600-1747231200@www.parkinsonpartners.org
SUMMARY:Parkinson Partners Support Group Meeting
DESCRIPTION:Parkinson Partners Support Group Meeting \nJoin Zoom Meeting: https://zoom.us/j/93010770942?pwd=bzhTYTgxVElXV0pONnYwbEt5TnZzZz09
URL:https://www.parkinsonpartners.org/event/parkinson-partners-support-group-meeting-2/
LOCATION:PA
END:VEVENT
BEGIN:VEVENT
DTSTART;TZID=America/New_York:20250513T180000
DTEND;TZID=America/New_York:20250513T190000
DTSTAMP:20260423T193317
CREATED:20250201T131236Z
LAST-MODIFIED:20250201T131302Z
UID:2603-1747159200-1747162800@www.parkinsonpartners.org
SUMMARY:Evening PD Support Group   Springhill Retirement Community
DESCRIPTION:  \nSpringhill Retirement Community\, 2323 Edinboro Road (Community Room). \nWe will have a potluck so please bring a snack or dish to share and your own drink if you wish to join in the meal. Feel free to call/text 814-899-3030 for more information.
URL:https://www.parkinsonpartners.org/event/evening-pd-support-group-springhill-retirement-community-2/
LOCATION:SpringHill Senior Living\, 2323 Edinboro Road\, Erie\, PA\, 16509\, United States
END:VEVENT
BEGIN:VEVENT
DTSTART;TZID=America/New_York:20250507T130000
DTEND;TZID=America/New_York:20250507T140000
DTSTAMP:20260423T193317
CREATED:20250201T125537Z
LAST-MODIFIED:20250205T135833Z
UID:2597-1746622800-1746626400@www.parkinsonpartners.org
SUMMARY:Eastside YMCA PD Support Group
DESCRIPTION:Eastside YMCA PD Support Group: Join us at the Eastside YMCA\, 2101 Nagle Road \nAll are welcome!
URL:https://www.parkinsonpartners.org/event/eastside-ymca-pd-support-group-12/
LOCATION:YMCA\, 2101 Nagle Road\, Erie\, PA\, 16511\, United States
END:VEVENT
BEGIN:VEVENT
DTSTART;TZID=America/New_York:20250428T183000
DTEND;TZID=America/New_York:20250428T203000
DTSTAMP:20260423T193317
CREATED:20250328T175421Z
LAST-MODIFIED:20250328T175525Z
UID:2697-1745865000-1745872200@www.parkinsonpartners.org
SUMMARY:HerStory Screening Event at Springhill
DESCRIPTION:HerStory is YourStory: A can-do approach to art music\, movement and creativity in the face of physical and mental adversity. Join us at Springhill Senior Living\, 2323 Edinboro Road at 6:30 PM for a screening of the award winning documentary\, “HerStory\,” an opera film featuring the creative talents of 85 people living with Parkinson’s. The piece incorporates music\, libretto\, choreography and visual art co-created with members of the UK Parkinson’s community in a series of projects that began back in 2019. In the words of the original cast\, the aim of the piece was ‘to show the world what people with Parkinson’s can do.’ After watching the documentary\, we will be joined by Music Therapists Brittany Barko Krugger\, MT-BC\, NMTand Nathan Demarest\, MT- BC\, who will be presenting “Music Therapy: A Journey of Sound and Healing” to give you some ideas on how you can add music to your journey with PD so you can also “show the world what people with Parkinson’s can do! To make it a real night out\, we will finish the evening with a cocktail party featuring beer\, wine and delicious appetizers. There is no cost to attend but reservations are required by April 21st. Click here to register or Call 814-899-3030 \nBig thanks to our community partners and sponsors\, WQLN and Springhill Senior Living.
URL:https://www.parkinsonpartners.org/event/herstory-screening-event-at-springhill/
LOCATION:SpringHill Senior Living\, 2323 Edinboro Road\, Erie\, PA\, 16509\, United States
END:VEVENT
BEGIN:VEVENT
DTSTART;TZID=America/New_York:20250428T113000
DTEND;TZID=America/New_York:20250428T123000
DTSTAMP:20260423T193317
CREATED:20250201T132824Z
LAST-MODIFIED:20250321T233901Z
UID:2617-1745839800-1745843400@www.parkinsonpartners.org
SUMMARY:Care Partner Only Lunch-Sara’s on Presque Isle
DESCRIPTION:Care Partner Only Lunch: Join other Care Partners for conversation at Sara’s on Presque Isle
URL:https://www.parkinsonpartners.org/event/care-partner-only-lunch-saras-on-presque-isle/
LOCATION:Sara’s Restaurant\, 25 Peninsula Dr.\, Erie\, PA\, 16505\, United States
END:VEVENT
BEGIN:VEVENT
DTSTART;TZID=America/New_York:20250427T090000
DTEND;TZID=America/New_York:20250427T130000
DTSTAMP:20260423T193317
CREATED:20250328T174802Z
LAST-MODIFIED:20250328T180341Z
UID:2688-1745744400-1745758800@www.parkinsonpartners.org
SUMMARY:Ambridge Rose Flea Market benefitting Parkinson Partners
DESCRIPTION:Sunday\, April 27\, 2025  Ambridge Rose Flea Market Benefiting PPNWPA  \nAmbridge Rose Spa & Salon\, 3344 West 26th Street\, will be hosting a flea market from 8:00 AM-1:00 PM with all money donated going to Parkinson Partners. We hope you will be able to support this great event with lots of great local vendors and food truck\, Waffle Miracle. Hope to see you there. \nFor more details Click Here
URL:https://www.parkinsonpartners.org/event/ambridge-rose-flea-market-benefitting-parkinson-partners/
LOCATION:Ambridge Rose\, 3344 West 26th Street\, Erie\, PA\, 16506
END:VEVENT
END:VCALENDAR