BEGIN:VCALENDAR
VERSION:2.0
PRODID:-//Parkinson Partners - ECPv6.15.20//NONSGML v1.0//EN
CALSCALE:GREGORIAN
METHOD:PUBLISH
X-ORIGINAL-URL:https://www.parkinsonpartners.org
X-WR-CALDESC:Events for Parkinson Partners
REFRESH-INTERVAL;VALUE=DURATION:PT1H
X-Robots-Tag:noindex
X-PUBLISHED-TTL:PT1H
BEGIN:VTIMEZONE
TZID:America/New_York
BEGIN:DAYLIGHT
TZOFFSETFROM:-0500
TZOFFSETTO:-0400
TZNAME:EDT
DTSTART:20230312T070000
END:DAYLIGHT
BEGIN:STANDARD
TZOFFSETFROM:-0400
TZOFFSETTO:-0500
TZNAME:EST
DTSTART:20231105T060000
END:STANDARD
BEGIN:DAYLIGHT
TZOFFSETFROM:-0500
TZOFFSETTO:-0400
TZNAME:EDT
DTSTART:20240310T070000
END:DAYLIGHT
BEGIN:STANDARD
TZOFFSETFROM:-0400
TZOFFSETTO:-0500
TZNAME:EST
DTSTART:20241103T060000
END:STANDARD
BEGIN:DAYLIGHT
TZOFFSETFROM:-0500
TZOFFSETTO:-0400
TZNAME:EDT
DTSTART:20250309T070000
END:DAYLIGHT
BEGIN:STANDARD
TZOFFSETFROM:-0400
TZOFFSETTO:-0500
TZNAME:EST
DTSTART:20251102T060000
END:STANDARD
END:VTIMEZONE
BEGIN:VEVENT
DTSTART;TZID=America/New_York:20240605T130000
DTEND;TZID=America/New_York:20240605T140000
DTSTAMP:20260425T065539
CREATED:20240613T094716Z
LAST-MODIFIED:20240613T100259Z
UID:2283-1717592400-1717596000@www.parkinsonpartners.org
SUMMARY:Eastside YMCA PD Support Group
DESCRIPTION:Eastside YMCA PD Support Group: Join us at the Eastside YMCA\, 2101 Nagle Road on Wednesday\, June 5th  at 1:00 PM. \nAll are welcome!
URL:https://www.parkinsonpartners.org/event/eastside-ymca-pd-support-group-2/
LOCATION:YMCA\, 2101 Nagle Road\, Erie\, PA\, 16511\, United States
END:VEVENT
BEGIN:VEVENT
DTSTART;TZID=America/New_York:20240619T130000
DTEND;TZID=America/New_York:20240619T140000
DTSTAMP:20260425T065539
CREATED:20240613T100538Z
LAST-MODIFIED:20240613T100538Z
UID:2306-1718802000-1718805600@www.parkinsonpartners.org
SUMMARY:Parkinson Partners Virtual Support Group Meeting
DESCRIPTION:Parkinson Partners Virtual Support Group Meeting \nTime: Jun 19\, 2024 01:00 PM Eastern Time (US and Canada) \nJoin Zoom Meeting \nhttps://us06web.zoom.us/j/93010770942?pwd=bzhTYTgxVElXV0pONnYwbEt5TnZzZz09 \nMeeting ID: 930 1077 0942 \nPasscode: 262311
URL:https://www.parkinsonpartners.org/event/parkinson-partners-virtual-support-group-meeting-12/
LOCATION:PA
END:VEVENT
BEGIN:VEVENT
DTSTART;TZID=America/New_York:20240622T100000
DTEND;TZID=America/New_York:20240622T170000
DTSTAMP:20260425T065539
CREATED:20240329T203335Z
LAST-MODIFIED:20240329T203335Z
UID:2200-1719050400-1719075600@www.parkinsonpartners.org
SUMMARY:Cooney Walk
DESCRIPTION:
URL:https://www.parkinsonpartners.org/event/cooney-walk/
LOCATION:Our Lady of Mercy Church\, 837 Bartlett Road\, Harborcreek\, PA\, 16421
END:VEVENT
BEGIN:VEVENT
DTSTART;TZID=America/New_York:20240624T113000
DTEND;TZID=America/New_York:20240624T123000
DTSTAMP:20260425T065539
CREATED:20240613T093919Z
LAST-MODIFIED:20240613T093919Z
UID:2275-1719228600-1719232200@www.parkinsonpartners.org
SUMMARY:Care Partner Only Lunch
DESCRIPTION:Care Partner Only Lunch: Join other Care Partners for conversation on Monday\, June 24th at 11:30 AM at Sara’s on Presque Isle.
URL:https://www.parkinsonpartners.org/event/care-partner-only-lunch-18/
LOCATION:Sara’s Restaurant\, 25 Peninsula Dr.\, Erie\, PA\, 16505\, United States
END:VEVENT
BEGIN:VEVENT
DTSTART;TZID=America/New_York:20240627T133000
DTEND;TZID=America/New_York:20240627T143000
DTSTAMP:20260425T065539
CREATED:20240613T102125Z
LAST-MODIFIED:20240613T102125Z
UID:2326-1719495000-1719498600@www.parkinsonpartners.org
SUMMARY:Parkinson Partners Care Partner Support Group
DESCRIPTION:Parkinson Partners Care Partner Support Group \nTime: Jun 27\, 2024 01:30 PM Eastern Time (US and Canada) \nJoin Zoom Meeting \nhttps://us06web.zoom.us/j/96391675305 \nMeeting ID: 963 9167 5305
URL:https://www.parkinsonpartners.org/event/parkinson-partners-care-partner-support-group-6/
LOCATION:PA
END:VEVENT
BEGIN:VEVENT
DTSTART;TZID=America/New_York:20240710T130000
DTEND;TZID=America/New_York:20240710T140000
DTSTAMP:20260425T065539
CREATED:20240613T094849Z
LAST-MODIFIED:20240613T100226Z
UID:2285-1720616400-1720620000@www.parkinsonpartners.org
SUMMARY:Eastside YMCA PD Support Group
DESCRIPTION:Eastside YMCA PD Support Group: Join us at the Eastside YMCA\, 2101 Nagle Road on Wednesday\, July 10th at 1:00 PM. \nAll are welcome!
URL:https://www.parkinsonpartners.org/event/eastside-ymca-pd-support-group-3/
LOCATION:YMCA\, 2101 Nagle Road\, Erie\, PA\, 16511\, United States
END:VEVENT
BEGIN:VEVENT
DTSTART;TZID=America/New_York:20240717T130000
DTEND;TZID=America/New_York:20240717T140000
DTSTAMP:20260425T065539
CREATED:20240613T100645Z
LAST-MODIFIED:20240613T100645Z
UID:2308-1721221200-1721224800@www.parkinsonpartners.org
SUMMARY:Parkinson Partners Virtual Support Group Meeting
DESCRIPTION:Parkinson Partners Virtual Support Group Meeting \nTime: July 17\, 2024 01:00 PM Eastern Time (US and Canada) \nJoin Zoom Meeting \nhttps://us06web.zoom.us/j/93010770942?pwd=bzhTYTgxVElXV0pONnYwbEt5TnZzZz09 \nMeeting ID: 930 1077 0942 \nPasscode: 262311
URL:https://www.parkinsonpartners.org/event/parkinson-partners-virtual-support-group-meeting-13/
LOCATION:PA
END:VEVENT
BEGIN:VEVENT
DTSTART;TZID=America/New_York:20240722T113000
DTEND;TZID=America/New_York:20240722T123000
DTSTAMP:20260425T065539
CREATED:20240613T094101Z
LAST-MODIFIED:20240613T094101Z
UID:2277-1721647800-1721651400@www.parkinsonpartners.org
SUMMARY:Care Partner Only Lunch
DESCRIPTION:Care Partner Only Lunch: Join other Care Partners for conversation on Monday\, July 22nd  at 11:30 AM at Sara’s on Presque Isle.
URL:https://www.parkinsonpartners.org/event/care-partner-only-lunch-19/
LOCATION:Sara’s Restaurant\, 25 Peninsula Dr.\, Erie\, PA\, 16505\, United States
END:VEVENT
BEGIN:VEVENT
DTSTART;TZID=America/New_York:20240725T133000
DTEND;TZID=America/New_York:20240725T143000
DTSTAMP:20260425T065539
CREATED:20240613T102241Z
LAST-MODIFIED:20240613T102241Z
UID:2328-1721914200-1721917800@www.parkinsonpartners.org
SUMMARY:Parkinson Partners Care Partner Support Group
DESCRIPTION:Parkinson Partners Care Partner Support Group \nTime: July 25\, 2024 01:30 PM Eastern Time (US and Canada) \nJoin Zoom Meeting \nhttps://us06web.zoom.us/j/96391675305 \nMeeting ID: 963 9167 5305
URL:https://www.parkinsonpartners.org/event/parkinson-partners-care-partner-support-group-7/
LOCATION:PA
END:VEVENT
BEGIN:VEVENT
DTSTART;TZID=America/New_York:20240807T130000
DTEND;TZID=America/New_York:20240807T140000
DTSTAMP:20260425T065539
CREATED:20240613T094956Z
LAST-MODIFIED:20240613T100153Z
UID:2287-1723035600-1723039200@www.parkinsonpartners.org
SUMMARY:Eastside YMCA PD Support Group
DESCRIPTION:Eastside YMCA PD Support Group: Join us at the Eastside YMCA\, 2101 Nagle Road on Wednesday\, August 7th at 1:00 PM. \nAll are welcome!
URL:https://www.parkinsonpartners.org/event/eastside-ymca-pd-support-group-4/
LOCATION:YMCA\, 2101 Nagle Road\, Erie\, PA\, 16511\, United States
END:VEVENT
BEGIN:VEVENT
DTSTART;TZID=America/New_York:20240821T130000
DTEND;TZID=America/New_York:20240821T140000
DTSTAMP:20260425T065539
CREATED:20240613T100840Z
LAST-MODIFIED:20240613T100840Z
UID:2310-1724245200-1724248800@www.parkinsonpartners.org
SUMMARY:Parkinson Partners Virtual Support Group Meeting
DESCRIPTION:Parkinson Partners Virtual Support Group Meeting \nTime: August 21\, 2024 01:00 PM Eastern Time (US and Canada) \nJoin Zoom Meeting \nhttps://us06web.zoom.us/j/93010770942?pwd=bzhTYTgxVElXV0pONnYwbEt5TnZzZz09 \nMeeting ID: 930 1077 0942 \nPasscode: 262311
URL:https://www.parkinsonpartners.org/event/parkinson-partners-virtual-support-group-meeting-14/
LOCATION:PA
END:VEVENT
BEGIN:VEVENT
DTSTART;TZID=America/New_York:20240822T133000
DTEND;TZID=America/New_York:20240822T143000
DTSTAMP:20260425T065539
CREATED:20240613T102351Z
LAST-MODIFIED:20240613T102351Z
UID:2330-1724333400-1724337000@www.parkinsonpartners.org
SUMMARY:Parkinson Partners Care Partner Support Group
DESCRIPTION:Parkinson Partners Care Partner Support Group \nTime: August 22\, 2024 01:30 PM Eastern Time (US and Canada) \nJoin Zoom Meeting \nhttps://us06web.zoom.us/j/96391675305 \nMeeting ID: 963 9167 5305
URL:https://www.parkinsonpartners.org/event/parkinson-partners-care-partner-support-group-8/
LOCATION:PA
END:VEVENT
BEGIN:VEVENT
DTSTART;TZID=America/New_York:20240826T113000
DTEND;TZID=America/New_York:20240826T123000
DTSTAMP:20260425T065539
CREATED:20240613T094228Z
LAST-MODIFIED:20240613T094228Z
UID:2279-1724671800-1724675400@www.parkinsonpartners.org
SUMMARY:Care Partner Only Lunch
DESCRIPTION:Care Partner Only Lunch: Join other Care Partners for conversation on Monday\, August 26th  at 11:30 AM at Sara’s on Presque Isle.
URL:https://www.parkinsonpartners.org/event/care-partner-only-lunch-20/
LOCATION:Sara’s Restaurant\, 25 Peninsula Dr.\, Erie\, PA\, 16505\, United States
END:VEVENT
BEGIN:VEVENT
DTSTART;TZID=America/New_York:20240904T130000
DTEND;TZID=America/New_York:20240904T140000
DTSTAMP:20260425T065539
CREATED:20240613T095103Z
LAST-MODIFIED:20240613T100128Z
UID:2289-1725454800-1725458400@www.parkinsonpartners.org
SUMMARY:Eastside YMCA PD Support Group
DESCRIPTION:Eastside YMCA PD Support Group: Join us at the Eastside YMCA\, 2101 Nagle Road on Wednesday\, September 4th at 1:00 PM. \nAll are welcome!
URL:https://www.parkinsonpartners.org/event/eastside-ymca-pd-support-group-5/
LOCATION:PA
END:VEVENT
BEGIN:VEVENT
DTSTART;TZID=America/New_York:20240910T180000
DTEND;TZID=America/New_York:20240910T193000
DTSTAMP:20260425T065539
CREATED:20240827T212708Z
LAST-MODIFIED:20240827T212708Z
UID:2434-1725991200-1725996600@www.parkinsonpartners.org
SUMMARY:Evening PD Support Group
DESCRIPTION:Evening PD Support Group will be held on Tuesday\, September 10th at 6:00 PM at Springhill Retirement Community\, 2323 Edinboro Road (Community Room). We will have a potluck so please bring a snack or dish to share and your own drink if you wish to join in the meal. Feel free to call/text 814-899-3030 for more information.
URL:https://www.parkinsonpartners.org/event/evening-pd-support-group-5/
LOCATION:SpringHill Senior Living\, 2323 Edinboro Road\, Erie\, PA\, 16509\, United States
END:VEVENT
BEGIN:VEVENT
DTSTART;TZID=America/New_York:20240918T130000
DTEND;TZID=America/New_York:20240918T140000
DTSTAMP:20260425T065539
CREATED:20240613T100943Z
LAST-MODIFIED:20240613T100943Z
UID:2312-1726664400-1726668000@www.parkinsonpartners.org
SUMMARY:Parkinson Partners Virtual Support Group Meeting
DESCRIPTION:Parkinson Partners Virtual Support Group Meeting \nTime: September 18\, 2024 01:00 PM Eastern Time (US and Canada) \nJoin Zoom Meeting \nhttps://us06web.zoom.us/j/93010770942?pwd=bzhTYTgxVElXV0pONnYwbEt5TnZzZz09 \nMeeting ID: 930 1077 0942 \nPasscode: 262311
URL:https://www.parkinsonpartners.org/event/parkinson-partners-virtual-support-group-meeting-15/
LOCATION:PA
END:VEVENT
BEGIN:VEVENT
DTSTART;TZID=America/New_York:20240923T113000
DTEND;TZID=America/New_York:20240923T123000
DTSTAMP:20260425T065539
CREATED:20240613T094325Z
LAST-MODIFIED:20240830T134024Z
UID:2281-1727091000-1727094600@www.parkinsonpartners.org
SUMMARY:Care Partner Only Lunch
DESCRIPTION:Care Partner Only Lunch: Join other Care Partners for conversation on Monday\, September 23rd at 11:30 AM at Wegman’s Café on Peach—6143 Peach Street.
URL:https://www.parkinsonpartners.org/event/care-partner-only-lunch-21/
LOCATION:Wegmans – Peach Street\, 6143 Peach Street\, Erie\, PA\, 16509
END:VEVENT
BEGIN:VEVENT
DTSTART;TZID=America/New_York:20240926T133000
DTEND;TZID=America/New_York:20240926T143000
DTSTAMP:20260425T065539
CREATED:20240613T102442Z
LAST-MODIFIED:20240613T102442Z
UID:2332-1727357400-1727361000@www.parkinsonpartners.org
SUMMARY:Parkinson Partners Care Partner Support Group
DESCRIPTION:Parkinson Partners Care Partner Support Group \nTime: September 26\, 2024 01:30 PM Eastern Time (US and Canada) \nJoin Zoom Meeting \nhttps://us06web.zoom.us/j/96391675305 \nMeeting ID: 963 9167 5305
URL:https://www.parkinsonpartners.org/event/parkinson-partners-care-partner-support-group-9/
LOCATION:PA
END:VEVENT
BEGIN:VEVENT
DTSTART;TZID=America/New_York:20241002T130000
DTEND;TZID=America/New_York:20241002T140000
DTSTAMP:20260425T065539
CREATED:20240613T095229Z
LAST-MODIFIED:20240613T100027Z
UID:2291-1727874000-1727877600@www.parkinsonpartners.org
SUMMARY:Eastside YMCA PD Support Group
DESCRIPTION:Eastside YMCA PD Support Group: Join us at the Eastside YMCA\, 2101 Nagle Road on Wednesday\, October 2nd at 1:00 PM. \nAll are welcome!
URL:https://www.parkinsonpartners.org/event/eastside-ymca-pd-support-group-6/
LOCATION:YMCA\, 2101 Nagle Road\, Erie\, PA\, 16511\, United States
END:VEVENT
BEGIN:VEVENT
DTSTART;TZID=America/New_York:20241008T180000
DTEND;TZID=America/New_York:20241008T193000
DTSTAMP:20260425T065539
CREATED:20240827T212852Z
LAST-MODIFIED:20240827T212852Z
UID:2436-1728410400-1728415800@www.parkinsonpartners.org
SUMMARY:Evening PD Support Group
DESCRIPTION:Evening PD Support Group will be held on Tuesday\, October 8th at 6:00 PM at Springhill Retirement Community\, 2323 Edinboro Road (Community Room). We will have a potluck so please bring a snack or dish to share and your own drink if you wish to join in the meal. Feel free to call/text 814-899-3030 for more information.
URL:https://www.parkinsonpartners.org/event/evening-pd-support-group-6/
LOCATION:SpringHill Senior Living\, 2323 Edinboro Road\, Erie\, PA\, 16509\, United States
END:VEVENT
BEGIN:VEVENT
DTSTART;TZID=America/New_York:20241016T130000
DTEND;TZID=America/New_York:20241016T140000
DTSTAMP:20260425T065539
CREATED:20240613T101158Z
LAST-MODIFIED:20240613T101158Z
UID:2314-1729083600-1729087200@www.parkinsonpartners.org
SUMMARY:Parkinson Partners Virtual Support Group Meeting
DESCRIPTION:Parkinson Partners Virtual Support Group Meeting \nTime: October 16\, 2024 01:00 PM Eastern Time (US and Canada) \nJoin Zoom Meeting \nhttps://us06web.zoom.us/j/93010770942?pwd=bzhTYTgxVElXV0pONnYwbEt5TnZzZz09 \nMeeting ID: 930 1077 0942 \nPasscode: 262311
URL:https://www.parkinsonpartners.org/event/parkinson-partners-virtual-support-group-meeting-16/
LOCATION:PA
END:VEVENT
BEGIN:VEVENT
DTSTART;TZID=America/New_York:20241024T133000
DTEND;TZID=America/New_York:20241024T143000
DTSTAMP:20260425T065539
CREATED:20240613T102529Z
LAST-MODIFIED:20240613T102529Z
UID:2334-1729776600-1729780200@www.parkinsonpartners.org
SUMMARY:Parkinson Partners Care Partner Support Group
DESCRIPTION:Parkinson Partners Care Partner Support Group \nTime: October 24\, 2024 01:30 PM Eastern Time (US and Canada) \nJoin Zoom Meeting \nhttps://us06web.zoom.us/j/96391675305 \nMeeting ID: 963 9167 5305
URL:https://www.parkinsonpartners.org/event/parkinson-partners-care-partner-support-group-10/
LOCATION:PA
END:VEVENT
BEGIN:VEVENT
DTSTART;TZID=America/New_York:20241028T113000
DTEND;TZID=America/New_York:20241028T123000
DTSTAMP:20260425T065539
CREATED:20240827T213757Z
LAST-MODIFIED:20240827T213757Z
UID:2442-1730115000-1730118600@www.parkinsonpartners.org
SUMMARY:Care Partner Only Lunch
DESCRIPTION:Care Partner Only Lunch: Join other Care Partners for conversation on Monday\, October 28th\, at 11:30 AM at Wegman’s Café on Peach—6143 Peach Street.
URL:https://www.parkinsonpartners.org/event/care-partner-only-lunch-22/
LOCATION:Wegmans – Peach Street\, 6143 Peach Street\, Erie\, PA\, 16509
END:VEVENT
BEGIN:VEVENT
DTSTART;TZID=America/New_York:20241106T130000
DTEND;TZID=America/New_York:20241106T140000
DTSTAMP:20260425T065539
CREATED:20240613T095716Z
LAST-MODIFIED:20240613T095957Z
UID:2296-1730898000-1730901600@www.parkinsonpartners.org
SUMMARY:Eastside YMCA PD Support Group
DESCRIPTION:Eastside YMCA PD Support Group: Join us at the Eastside YMCA\, 2101 Nagle Road on Wednesday\, November 6th at 1:00 PM. \nAll are welcome!
URL:https://www.parkinsonpartners.org/event/eastside-ymca-pd-support-group-7/
LOCATION:YMCA\, 2101 Nagle Road\, Erie\, PA\, 16511\, United States
END:VEVENT
BEGIN:VEVENT
DTSTART;TZID=America/New_York:20241112T180000
DTEND;TZID=America/New_York:20241112T193000
DTSTAMP:20260425T065539
CREATED:20240827T213005Z
LAST-MODIFIED:20240827T213005Z
UID:2438-1731434400-1731439800@www.parkinsonpartners.org
SUMMARY:Evening PD Support Group
DESCRIPTION:Evening PD Support Group will be held on Tuesday\, November 12th at 6:00 PM at Springhill Retirement Community\, 2323 Edinboro Road (Community Room). We will have a potluck so please bring a snack or dish to share and your own drink if you wish to join in the meal. Feel free to call/text 814-899-3030 for more information.
URL:https://www.parkinsonpartners.org/event/evening-pd-support-group-7/
LOCATION:SpringHill Senior Living\, 2323 Edinboro Road\, Erie\, PA\, 16509\, United States
END:VEVENT
BEGIN:VEVENT
DTSTART;TZID=America/New_York:20241120T130000
DTEND;TZID=America/New_York:20241120T140000
DTSTAMP:20260425T065539
CREATED:20240613T101418Z
LAST-MODIFIED:20240613T101418Z
UID:2316-1732107600-1732111200@www.parkinsonpartners.org
SUMMARY:Parkinson Partners Virtual Support Group Meeting
DESCRIPTION:Parkinson Partners Virtual Support Group Meeting \nTime: November 20\, 2024 01:00 PM Eastern Time (US and Canada) \nJoin Zoom Meeting \nhttps://us06web.zoom.us/j/93010770942?pwd=bzhTYTgxVElXV0pONnYwbEt5TnZzZz09 \nMeeting ID: 930 1077 0942 \nPasscode: 262311
URL:https://www.parkinsonpartners.org/event/parkinson-partners-virtual-support-group-meeting-17/
LOCATION:PA
END:VEVENT
BEGIN:VEVENT
DTSTART;TZID=America/New_York:20241204T130000
DTEND;TZID=America/New_York:20241204T140000
DTSTAMP:20260425T065539
CREATED:20240613T095918Z
LAST-MODIFIED:20240613T095918Z
UID:2298-1733317200-1733320800@www.parkinsonpartners.org
SUMMARY:Eastside YMCA PD Support Group
DESCRIPTION:Eastside YMCA PD Support Group: Join us at the Eastside YMCA\, 2101 Nagle Road on Wednesday\, December 4th at 1:00 PM. \nAll are welcome!
URL:https://www.parkinsonpartners.org/event/eastside-ymca-pd-support-group-8/
LOCATION:PA
END:VEVENT
BEGIN:VEVENT
DTSTART;TZID=America/New_York:20241205T133000
DTEND;TZID=America/New_York:20241205T143000
DTSTAMP:20260425T065539
CREATED:20240613T102642Z
LAST-MODIFIED:20241114T225351Z
UID:2336-1733405400-1733409000@www.parkinsonpartners.org
SUMMARY:Parkinson Partners Care Partner Support Group via Zoom
DESCRIPTION:Parkinson Partners Care Partner Support Group \nTime: December 5\, 2024 01:30 PM Eastern Time (US and Canada) \nJoin Zoom Meeting \nhttps://us06web.zoom.us/j/96391675305 \nMeeting ID: 963 9167 5305
URL:https://www.parkinsonpartners.org/event/parkinson-partners-care-partner-support-group-11/
LOCATION:PA
END:VEVENT
BEGIN:VEVENT
DTSTART;TZID=America/New_York:20241209T113000
DTEND;TZID=America/New_York:20241209T123000
DTSTAMP:20260425T065539
CREATED:20240827T213956Z
LAST-MODIFIED:20240827T213956Z
UID:2444-1733743800-1733747400@www.parkinsonpartners.org
SUMMARY:Care Partner Only Lunch
DESCRIPTION:Care Partner Only Lunch: Join other Care Partners for conversation on Monday\, December 9th\, at 11:30 AM at Wegman’s Café on Peach—6143 Peach Street.
URL:https://www.parkinsonpartners.org/event/care-partner-only-lunch-23/
LOCATION:Wegmans – Peach Street\, 6143 Peach Street\, Erie\, PA\, 16509
END:VEVENT
BEGIN:VEVENT
DTSTART;TZID=America/New_York:20241210T180000
DTEND;TZID=America/New_York:20241210T193000
DTSTAMP:20260425T065539
CREATED:20240827T213120Z
LAST-MODIFIED:20240827T213208Z
UID:2440-1733853600-1733859000@www.parkinsonpartners.org
SUMMARY:Evening PD Support Group
DESCRIPTION:Evening PD Support Group will be held on Tuesday\, December 10th at 6:00 PM at Springhill Retirement Community\, 2323 Edinboro Road (Community Room). We will have a potluck so please bring a snack or dish to share and your own drink if you wish to join in the meal. Feel free to call/text 814-899-3030 for more information.
URL:https://www.parkinsonpartners.org/event/evening-pd-support-group-8/
LOCATION:PA
END:VEVENT
END:VCALENDAR