BEGIN:VCALENDAR
VERSION:2.0
PRODID:-//Parkinson Partners - ECPv6.15.20//NONSGML v1.0//EN
CALSCALE:GREGORIAN
METHOD:PUBLISH
X-WR-CALNAME:Parkinson Partners
X-ORIGINAL-URL:https://www.parkinsonpartners.org
X-WR-CALDESC:Events for Parkinson Partners
REFRESH-INTERVAL;VALUE=DURATION:PT1H
X-Robots-Tag:noindex
X-PUBLISHED-TTL:PT1H
BEGIN:VTIMEZONE
TZID:America/New_York
BEGIN:DAYLIGHT
TZOFFSETFROM:-0500
TZOFFSETTO:-0400
TZNAME:EDT
DTSTART:20210314T070000
END:DAYLIGHT
BEGIN:STANDARD
TZOFFSETFROM:-0400
TZOFFSETTO:-0500
TZNAME:EST
DTSTART:20211107T060000
END:STANDARD
BEGIN:DAYLIGHT
TZOFFSETFROM:-0500
TZOFFSETTO:-0400
TZNAME:EDT
DTSTART:20220313T070000
END:DAYLIGHT
BEGIN:STANDARD
TZOFFSETFROM:-0400
TZOFFSETTO:-0500
TZNAME:EST
DTSTART:20221106T060000
END:STANDARD
BEGIN:DAYLIGHT
TZOFFSETFROM:-0500
TZOFFSETTO:-0400
TZNAME:EDT
DTSTART:20230312T070000
END:DAYLIGHT
BEGIN:STANDARD
TZOFFSETFROM:-0400
TZOFFSETTO:-0500
TZNAME:EST
DTSTART:20231105T060000
END:STANDARD
BEGIN:DAYLIGHT
TZOFFSETFROM:-0500
TZOFFSETTO:-0400
TZNAME:EDT
DTSTART:20240310T070000
END:DAYLIGHT
BEGIN:STANDARD
TZOFFSETFROM:-0400
TZOFFSETTO:-0500
TZNAME:EST
DTSTART:20241103T060000
END:STANDARD
END:VTIMEZONE
BEGIN:VTIMEZONE
TZID:UTC
BEGIN:STANDARD
TZOFFSETFROM:+0000
TZOFFSETTO:+0000
TZNAME:UTC
DTSTART:20210101T000000
END:STANDARD
END:VTIMEZONE
BEGIN:VEVENT
DTSTART;TZID=America/New_York:20230420T100000
DTEND;TZID=America/New_York:20230420T140000
DTSTAMP:20260425T112854
CREATED:20230313T144306Z
LAST-MODIFIED:20230331T155054Z
UID:1716-1681984800-1681999200@www.parkinsonpartners.org
SUMMARY:PD Lunch and Learn at Encompass Health Rehabilitation Hospital of Erie
DESCRIPTION:PD Lunch and Learn at Encompass Health Rehabilitation Hospital of Erie:  Thursday\, April 20th 10:00 AM-2:00 PM \nOptional walking assessment to follow. \n 
URL:https://www.parkinsonpartners.org/event/pd-lunch-and-learn-at-encompass-health-rehabilitation-hospital-of-erie/
LOCATION:PA
END:VEVENT
BEGIN:VEVENT
DTSTART;TZID=America/New_York:20230419T130000
DTEND;TZID=America/New_York:20230419T140000
DTSTAMP:20260425T112854
CREATED:20230313T143241Z
LAST-MODIFIED:20230313T143241Z
UID:1708-1681909200-1681912800@www.parkinsonpartners.org
SUMMARY:Parkinson Partners Support Group Meeting via Zoom
DESCRIPTION:Parkinson Partners Support Group Meeting via Zoom on Wednesday April 19th  at 1:00 PM.  \n  \nJoin Zoom Meeting: https://zoom.us/j/93010770942?pwd=bzhTYTgxVElXV0pONnYwbEt5TnZzZz09
URL:https://www.parkinsonpartners.org/event/parkinson-partners-support-group-meeting-via-zoom-7/
LOCATION:PA
END:VEVENT
BEGIN:VEVENT
DTSTART;TZID=America/New_York:20230411T173000
DTEND;TZID=America/New_York:20230411T190000
DTSTAMP:20260425T112854
CREATED:20230313T143948Z
LAST-MODIFIED:20230313T143948Z
UID:1712-1681234200-1681239600@www.parkinsonpartners.org
SUMMARY:Wegman’s PD Support Group
DESCRIPTION:Wegman’s PD Support Group will meet at the Peach Street Wegman’s on April 11th at 5:30 PM for newer members with the rest of the group joining at 6:00 PM in the dining area. All are welcome.
URL:https://www.parkinsonpartners.org/event/wegmans-pd-support-group-8/
LOCATION:Wegmans – Peach Street\, 6143 Peach Street\, Erie\, PA\, 16509
END:VEVENT
BEGIN:VEVENT
DTSTART;TZID=America/New_York:20230405T130000
DTEND;TZID=America/New_York:20230405T140000
DTSTAMP:20260425T112854
CREATED:20230313T142856Z
LAST-MODIFIED:20230313T142856Z
UID:1706-1680699600-1680703200@www.parkinsonpartners.org
SUMMARY:Parkinson Partners Support Group Meeting via Zoom
DESCRIPTION:Parkinson Partners Support Group Meeting via Zoom on Wednesday April 5th at 1:00 PM.  \n  \nJoin Zoom Meeting: https://zoom.us/j/93010770942?pwd=bzhTYTgxVElXV0pONnYwbEt5TnZzZz09
URL:https://www.parkinsonpartners.org/event/parkinson-partners-support-group-meeting-via-zoom-6/
LOCATION:PA
END:VEVENT
BEGIN:VEVENT
DTSTART;TZID=America/New_York:20230327T113000
DTEND;TZID=America/New_York:20230327T123000
DTSTAMP:20260425T112854
CREATED:20230215T141337Z
LAST-MODIFIED:20230215T141337Z
UID:1690-1679916600-1679920200@www.parkinsonpartners.org
SUMMARY:Care Partner Only Lunch
DESCRIPTION:Care Partner Only Lunch: Join other Care Partners for lunch and conversation at Peach Street Wegman’s on Peach on Monday\, March 27th at 11:30 AM.
URL:https://www.parkinsonpartners.org/event/care-partner-only-lunch-4/
LOCATION:Wegmans – Peach Street\, 6143 Peach Street\, Erie\, PA\, 16509
END:VEVENT
BEGIN:VEVENT
DTSTART;TZID=America/New_York:20230323T133000
DTEND;TZID=America/New_York:20230323T143000
DTSTAMP:20260425T112854
CREATED:20230215T140810Z
LAST-MODIFIED:20230215T140810Z
UID:1686-1679578200-1679581800@www.parkinsonpartners.org
SUMMARY:Parkinson Caregiver Only Support Group Meeting via Zoom
DESCRIPTION:Parkinson Caregiver Only Support Group Meeting via Zoom \n  \nThursday\, March 23rd at 1:30 PM.  \n  \nJoin Zoom Meeting: https://zoom.us/j/96391675305?pwd=ZHgxbXhnRS9GTGpKdlpTeURHSjJJdz09
URL:https://www.parkinsonpartners.org/event/parkinson-caregiver-only-support-group-meeting-via-zoom-3/
LOCATION:PA
END:VEVENT
BEGIN:VEVENT
DTSTART;TZID=America/New_York:20230314T173000
DTEND;TZID=America/New_York:20230314T190000
DTSTAMP:20260425T112854
CREATED:20230215T141228Z
LAST-MODIFIED:20230215T141228Z
UID:1688-1678815000-1678820400@www.parkinsonpartners.org
SUMMARY:Wegman’s PD Support Group
DESCRIPTION:Wegman’s PD Support Group will meet at the Peach Street Wegman’s on Tuesday\, March 14th at 5:30 PM for newer members with the rest of the group joining at 6:00 PM in the dining area. All are welcome.
URL:https://www.parkinsonpartners.org/event/wegmans-pd-support-group-7/
LOCATION:Wegmans – Peach Street\, 6143 Peach Street\, Erie\, PA\, 16509
END:VEVENT
BEGIN:VEVENT
DTSTART;TZID=America/New_York:20230308T130000
DTEND;TZID=America/New_York:20230308T140000
DTSTAMP:20260425T112854
CREATED:20230215T140546Z
LAST-MODIFIED:20230215T140842Z
UID:1684-1678280400-1678284000@www.parkinsonpartners.org
SUMMARY:Parkinson Partners Support Group Meeting via Zoom
DESCRIPTION:Parkinson Partners Support Group Meeting via Zoom \nWednesday\, March 8th at 1:00 PM.  \n  \nJoin Zoom Meeting: https://zoom.us/j/93010770942?pwd=bzhTYTgxVElXV0pONnYwbEt5TnZzZz09
URL:https://www.parkinsonpartners.org/event/parkinson-partners-support-group-meeting-via-zoom-5/
LOCATION:PA
END:VEVENT
BEGIN:VEVENT
DTSTART;TZID=America/New_York:20230227T113000
DTEND;TZID=America/New_York:20230227T123000
DTSTAMP:20260425T112854
CREATED:20230112T181250Z
LAST-MODIFIED:20230112T181250Z
UID:1636-1677497400-1677501000@www.parkinsonpartners.org
SUMMARY:Care Partner Only Lunch
DESCRIPTION:Care Partner Only Lunch: Join other Care Partners for lunch and conversation at Peach Street Wegman’s on Peach on Monday\, February 27th at 11:30 AM.
URL:https://www.parkinsonpartners.org/event/care-partner-only-lunch-3/
LOCATION:Wegmans – Peach Street\, 6143 Peach Street\, Erie\, PA\, 16509
END:VEVENT
BEGIN:VEVENT
DTSTART;TZID=America/New_York:20230223T133000
DTEND;TZID=America/New_York:20230223T143000
DTSTAMP:20260425T112854
CREATED:20230112T180917Z
LAST-MODIFIED:20230112T180917Z
UID:1632-1677159000-1677162600@www.parkinsonpartners.org
SUMMARY:Parkinson Caregiver Only Support Group Meeting via Zoom
DESCRIPTION:Parkinson Caregiver Only Support Group Meeting via Zoom on Thursday\, February 23rd at 1:30 PM.   \nJoin Zoom Meeting: https://zoom.us/j/96391675305?pwd=ZHgxbXhnRS9GTGpKdlpTeURHSjJJdz09
URL:https://www.parkinsonpartners.org/event/parkinson-caregiver-only-support-group-meeting-via-zoom-2/
LOCATION:PA
END:VEVENT
BEGIN:VEVENT
DTSTART;TZID=America/New_York:20230222T130000
DTEND;TZID=America/New_York:20230222T140000
DTSTAMP:20260425T112854
CREATED:20230112T180725Z
LAST-MODIFIED:20230112T180725Z
UID:1630-1677070800-1677074400@www.parkinsonpartners.org
SUMMARY:Parkinson Partners Support Group Meeting via Zoom
DESCRIPTION:Parkinson Partners Support Group Meeting via Zoom on Wednesdays\, February 22nd at 1:00 PM. \nJoin Zoom Meeting: https://zoom.us/j/93010770942?pwd=bzhTYTgxVElXV0pONnYwbEt5TnZzZz09
URL:https://www.parkinsonpartners.org/event/parkinson-partners-support-group-meeting-via-zoom-4/
LOCATION:PA
END:VEVENT
BEGIN:VEVENT
DTSTART;TZID=America/New_York:20230221T173000
DTEND;TZID=America/New_York:20230221T190000
DTSTAMP:20260425T112854
CREATED:20230112T181140Z
LAST-MODIFIED:20230112T181140Z
UID:1634-1677000600-1677006000@www.parkinsonpartners.org
SUMMARY:Wegman’s PD Support Group
DESCRIPTION:Wegman’s PD Support Group will meet at the Peach Street Wegman’s on Tuesday\, February 21st at 5:30 PM for newer members with the rest of the group joining at 6:00 PM in the dining area. All are welcome. \nNOTE: the 5:30 PM start for new people is new starting in January. \nThis meeting is also a week later due to Valentine’s Day..
URL:https://www.parkinsonpartners.org/event/wegmans-pd-support-group-6/
LOCATION:Wegmans – Peach Street\, 6143 Peach Street\, Erie\, PA\, 16509
END:VEVENT
BEGIN:VEVENT
DTSTART;TZID=America/New_York:20230208T130000
DTEND;TZID=America/New_York:20230208T140000
DTSTAMP:20260425T112854
CREATED:20230112T180537Z
LAST-MODIFIED:20230112T180537Z
UID:1628-1675861200-1675864800@www.parkinsonpartners.org
SUMMARY:Parkinson Partners Support Group Meeting via Zoom
DESCRIPTION:Parkinson Partners Support Group Meeting via Zoom on Wednesdays\, February 8th  at 1:00 PM.  \n  \nJoin Zoom Meeting: https://zoom.us/j/93010770942?pwd=bzhTYTgxVElXV0pONnYwbEt5TnZzZz09
URL:https://www.parkinsonpartners.org/event/parkinson-partners-support-group-meeting-via-zoom-3/
LOCATION:PA
END:VEVENT
BEGIN:VEVENT
DTSTART;TZID=America/New_York:20230126T133000
DTEND;TZID=America/New_York:20230126T143000
DTSTAMP:20260425T112854
CREATED:20230106T130435Z
LAST-MODIFIED:20230106T130435Z
UID:1581-1674739800-1674743400@www.parkinsonpartners.org
SUMMARY:Parkinson Caregiver Only Support Group Meeting via Zoom
DESCRIPTION:Parkinson Caregiver Only Support Group Meeting via Zoom \nJoin Zoom Meeting: https://zoom.us/j/96391675305?pwd=ZHgxbXhnRS9GTGpKdlpTeURHSjJJdz09
URL:https://www.parkinsonpartners.org/event/parkinson-caregiver-only-support-group-meeting-via-zoom/
LOCATION:PA
END:VEVENT
BEGIN:VEVENT
DTSTART;TZID=America/New_York:20230125T130000
DTEND;TZID=America/New_York:20230125T140000
DTSTAMP:20260425T112854
CREATED:20230106T130244Z
LAST-MODIFIED:20230106T130244Z
UID:1579-1674651600-1674655200@www.parkinsonpartners.org
SUMMARY:Parkinson Partners Support Group Meeting via Zoom
DESCRIPTION:Parkinson Partners Support Group Meeting via Zoom \nJoin Zoom Meeting: \nhttps://zoom.us/j/93010770942?pwd=bzhTYTgxVElXV0pONnYwbEt5TnZzZz09
URL:https://www.parkinsonpartners.org/event/parkinson-partners-support-group-meeting-via-zoom-2/
LOCATION:PA
END:VEVENT
BEGIN:VEVENT
DTSTART;TZID=America/New_York:20230123T113000
DTEND;TZID=America/New_York:20230123T123000
DTSTAMP:20260425T112854
CREATED:20230106T130816Z
LAST-MODIFIED:20230106T130816Z
UID:1585-1674473400-1674477000@www.parkinsonpartners.org
SUMMARY:Care Partner Only Lunch
DESCRIPTION:Care Partner Only Lunch: Join other Care Partners for lunch and conversation at Peach Street Wegman’s\,
URL:https://www.parkinsonpartners.org/event/care-partner-only-lunch-2/
LOCATION:Wegmans – Peach Street\, 6143 Peach Street\, Erie\, PA\, 16509
END:VEVENT
BEGIN:VEVENT
DTSTART;TZID=America/New_York:20230111T130000
DTEND;TZID=America/New_York:20230111T140000
DTSTAMP:20260425T112854
CREATED:20230106T130051Z
LAST-MODIFIED:20230106T130051Z
UID:1577-1673442000-1673445600@www.parkinsonpartners.org
SUMMARY:Parkinson Partners Support Group Meeting via Zoom
DESCRIPTION:Parkinson Partners Support Group Meeting via Zoom \nJoin Zoom Meeting: https://zoom.us/j/93010770942?pwd=bzhTYTgxVElXV0pONnYwbEt5TnZzZz09
URL:https://www.parkinsonpartners.org/event/parkinson-partners-support-group-meeting-via-zoom/
LOCATION:PA
END:VEVENT
BEGIN:VEVENT
DTSTART;TZID=America/New_York:20230110T173000
DTEND;TZID=America/New_York:20230110T190000
DTSTAMP:20260425T112854
CREATED:20230106T130655Z
LAST-MODIFIED:20230106T130655Z
UID:1583-1673371800-1673377200@www.parkinsonpartners.org
SUMMARY:Wegman’s PD Support Group
DESCRIPTION:Wegman’s PD Support Group will meet at the Peach Street Wegman’s on Tuesday\, January 10th at 5:30 PM for newer members with the rest of the group joining at 6:00 PM in the dining area. \nAll are welcome. \nNOTE: the 5:30 PM start for new people is new this time.
URL:https://www.parkinsonpartners.org/event/wegmans-pd-support-group-4/
LOCATION:Wegmans – Peach Street\, 6143 Peach Street\, Erie\, PA\, 16509
END:VEVENT
BEGIN:VEVENT
DTSTART;TZID=America/New_York:20221214T130000
DTEND;TZID=America/New_York:20221214T140000
DTSTAMP:20260425T112854
CREATED:20221115T183853Z
LAST-MODIFIED:20221115T183853Z
UID:1555-1671022800-1671026400@www.parkinsonpartners.org
SUMMARY:Zoom Support Group Meeting
DESCRIPTION:December 14 @ 1:00 pm – 2:00 pm \nJoin Parkinson Partners Zoom Support Group Meeting on December 14\, 2022 at 1:00 p.m. \nAll are welcome. Join Zoom Meeting: https://us06web.zoom.us/j/93010770942?pwd=bzhTYTgxVElXV0pONnYwbEt5TnZzZz09
URL:https://www.parkinsonpartners.org/event/zoom-support-group-meeting-9/
LOCATION:PA
END:VEVENT
BEGIN:VEVENT
DTSTART;TZID=America/New_York:20221208T133000
DTEND;TZID=America/New_York:20221208T143000
DTSTAMP:20260425T112854
CREATED:20221115T184157Z
LAST-MODIFIED:20221115T184157Z
UID:1559-1670506200-1670509800@www.parkinsonpartners.org
SUMMARY:Zoom Care Partner Group Meeting
DESCRIPTION:December 8 @ 1:30 pm – 2:30 pm \nJoin Parkinson Partners Zoom Care Partner Support Group Meeting on December 8\, 2022 at 1:30 p.m. \nAll care partners are welcome. Join Zoom Meeting: https://us06web.zoom.us/j/96391675305?pwd=ZHgxbXhnRS9GTGpKdlpTeURHSjJJdz09
URL:https://www.parkinsonpartners.org/event/zoom-care-partner-group-meeting-5/
LOCATION:PA
END:VEVENT
BEGIN:VEVENT
DTSTART;TZID=America/New_York:20221206T180000
DTEND;TZID=America/New_York:20221206T190000
DTSTAMP:20260425T112854
CREATED:20221115T184744Z
LAST-MODIFIED:20221115T185049Z
UID:1563-1670349600-1670353200@www.parkinsonpartners.org
SUMMARY:Wegman’s PD Support Group
DESCRIPTION:Wegman’s PD Support Group \nDecember 6 @ 6:00 pm \nWegman’s PD Support Group will meet at the Peach Street Wegman’s in the dining room area.  All are welcome.
URL:https://www.parkinsonpartners.org/event/wegmans-pd-support-group-5/
LOCATION:Wegmans – Peach Street\, 6143 Peach Street\, Erie\, PA\, 16509
END:VEVENT
BEGIN:VEVENT
DTSTART;TZID=America/New_York:20221205T113000
DTEND;TZID=America/New_York:20221205T123000
DTSTAMP:20260425T112854
CREATED:20221115T184447Z
LAST-MODIFIED:20221115T184447Z
UID:1561-1670239800-1670243400@www.parkinsonpartners.org
SUMMARY:Care Partners Only Lunch
DESCRIPTION:NEW LOCATION and Special Time due to the Holidays \nCare Partners Only Lunch \nDecember 5 @ 11:30 am – 12:30 pm \nJoin other Care Partners for lunch and conversation.
URL:https://www.parkinsonpartners.org/event/care-partners-only-lunch-2/
LOCATION:Wegmans – Peach Street\, 6143 Peach Street\, Erie\, PA\, 16509
END:VEVENT
BEGIN:VEVENT
DTSTART;TZID=America/New_York:20221130T130000
DTEND;TZID=America/New_York:20221130T140000
DTSTAMP:20260425T112854
CREATED:20221115T183221Z
LAST-MODIFIED:20221115T183221Z
UID:1553-1669813200-1669816800@www.parkinsonpartners.org
SUMMARY:Zoom Support Group Meeting
DESCRIPTION:November 30 @ 1:00 pm – 2:00 pm \nJoin Parkinson Partners Zoom Support Group Meeting on November 30th\, 2022 at 1:00 p.m. \nAll are welcome. Join Zoom Meeting: https://us06web.zoom.us/j/93010770942?pwd=bzhTYTgxVElXV0pONnYwbEt5TnZzZz09
URL:https://www.parkinsonpartners.org/event/zoom-support-group-meeting-8/
LOCATION:PA
END:VEVENT
BEGIN:VEVENT
DTSTART;TZID=America/New_York:20221117T133000
DTEND;TZID=America/New_York:20221117T143000
DTSTAMP:20260425T112854
CREATED:20221115T184024Z
LAST-MODIFIED:20221115T184024Z
UID:1557-1668691800-1668695400@www.parkinsonpartners.org
SUMMARY:Zoom Care Partner Group Meeting
DESCRIPTION:November 17 @ 1:30 pm – 2:30 pm \nJoin Parkinson Partners Zoom Care Partner Support Group Meeting on November 17\, 2022 at 1:30 p.m. \nAll care partners are welcome. Join Zoom Meeting: https://us06web.zoom.us/j/96391675305?pwd=ZHgxbXhnRS9GTGpKdlpTeURHSjJJdz09
URL:https://www.parkinsonpartners.org/event/zoom-care-partner-group-meeting-4/
LOCATION:PA
END:VEVENT
BEGIN:VEVENT
DTSTART;TZID=America/New_York:20221116T130000
DTEND;TZID=America/New_York:20221116T140000
DTSTAMP:20260425T112854
CREATED:20221115T182939Z
LAST-MODIFIED:20221115T182939Z
UID:1551-1668603600-1668607200@www.parkinsonpartners.org
SUMMARY:Zoom Support Group Meeting
DESCRIPTION:November 16 @ 1:00 pm – 2:00 pm \nJoin Parkinson Partners Zoom Support Group Meeting on November 16th\, 2022 at 1:00 p.m. \nAll are welcome. Join Zoom Meeting: https://us06web.zoom.us/j/93010770942?pwd=bzhTYTgxVElXV0pONnYwbEt5TnZzZz09
URL:https://www.parkinsonpartners.org/event/zoom-support-group-meeting-7/
LOCATION:PA
END:VEVENT
BEGIN:VEVENT
DTSTART;TZID=America/New_York:20221108T180000
DTEND;TZID=America/New_York:20221108T180000
DTSTAMP:20260425T112854
CREATED:20220912T011653Z
LAST-MODIFIED:20220912T011653Z
UID:1302-1667930400-1667930400@www.parkinsonpartners.org
SUMMARY:Wegman’s PD Support Group
DESCRIPTION:Wegman’s PD Support Group will meet at the Peach Street Wegman’s in the dining area. All are welcome.
URL:https://www.parkinsonpartners.org/event/wegmans-pd-support-group-3/
LOCATION:Wegmans – Peach Street\, 6143 Peach Street\, Erie\, PA\, 16509
END:VEVENT
BEGIN:VEVENT
DTSTART;TZID=UTC:20221104T190000
DTEND;TZID=UTC:20221104T230000
DTSTAMP:20260425T112854
CREATED:20220806T010723Z
LAST-MODIFIED:20220915T221537Z
UID:859-1667588400-1667602800@www.parkinsonpartners.org
SUMMARY:Rock n' Country Dance Fundraiser
DESCRIPTION:Join Parkinson Partners at Concourse of Union Station on November 4th\, 2022 at 7:00 p.m. to 11:00 p.m.\nJoin us for this fundraiser featuring rock n’ roll and country music while helping Parkinson Partners from 7:00 p.m. to 11:00 p.m. at Concourse of Union Station. Click here for more details.
URL:https://www.parkinsonpartners.org/event/night-out-with-parkinson-partners/
LOCATION:Concourse of Union Station\, 121 West 15th Street\, Erie\, PA\, 16501\, United States
END:VEVENT
BEGIN:VEVENT
DTSTART;TZID=UTC:20221102T130000
DTEND;TZID=UTC:20221102T140000
DTSTAMP:20260425T112854
CREATED:20220806T010143Z
LAST-MODIFIED:20220809T044028Z
UID:857-1667394000-1667397600@www.parkinsonpartners.org
SUMMARY:Zoom Support Group Meeting
DESCRIPTION:Join Parkinson Partners Zoom Support Group Meeting on November 2nd\, 2022 at 1:00 p.m.\nAll are welcome. Join Zoom Meeting: https://us06web.zoom.us/j/93010770942?pwd=bzhTYTgxVElXV0pONnYwbEt5TnZzZz09
URL:https://www.parkinsonpartners.org/event/zoom-support-group-meeting-6/
LOCATION:PA
END:VEVENT
BEGIN:VEVENT
DTSTART;TZID=UTC:20221027T133000
DTEND;TZID=UTC:20221027T143000
DTSTAMP:20260425T112854
CREATED:20220806T005947Z
LAST-MODIFIED:20220809T043917Z
UID:855-1666877400-1666881000@www.parkinsonpartners.org
SUMMARY:Zoom Care Partner Group Meeting
DESCRIPTION:Join Parkinson Partners Zoom Care Partner Support Group Meeting on October 27th\, 2022 at 1:30 p.m.\nAll care partners are welcome. Join Zoom Meeting: https://us06web.zoom.us/j/96391675305?pwd=ZHgxbXhnRS9GTGpKdlpTeURHSjJJdz09
URL:https://www.parkinsonpartners.org/event/zoom-care-partner-group-meeting-3/
LOCATION:PA
END:VEVENT
BEGIN:VEVENT
DTSTART;TZID=America/New_York:20221024T113000
DTEND;TZID=America/New_York:20221024T123000
DTSTAMP:20260425T112854
CREATED:20221006T054434Z
LAST-MODIFIED:20221006T054434Z
UID:1490-1666611000-1666614600@www.parkinsonpartners.org
SUMMARY:Care Partners Only Lunch
DESCRIPTION:Join other Care Partners for lunch and conversation.
URL:https://www.parkinsonpartners.org/event/care-partners-only-lunch/
LOCATION:Panera – 12th Street\, 2501 West 12th Street\, Erie\, PA\, 16505\, United States
END:VEVENT
END:VCALENDAR