BEGIN:VCALENDAR
VERSION:2.0
PRODID:-//Parkinson Partners - ECPv6.15.20//NONSGML v1.0//EN
CALSCALE:GREGORIAN
METHOD:PUBLISH
X-ORIGINAL-URL:https://www.parkinsonpartners.org
X-WR-CALDESC:Events for Parkinson Partners
REFRESH-INTERVAL;VALUE=DURATION:PT1H
X-Robots-Tag:noindex
X-PUBLISHED-TTL:PT1H
BEGIN:VTIMEZONE
TZID:UTC
BEGIN:STANDARD
TZOFFSETFROM:+0000
TZOFFSETTO:+0000
TZNAME:UTC
DTSTART:20210101T000000
END:STANDARD
END:VTIMEZONE
BEGIN:VTIMEZONE
TZID:America/New_York
BEGIN:DAYLIGHT
TZOFFSETFROM:-0500
TZOFFSETTO:-0400
TZNAME:EDT
DTSTART:20210314T070000
END:DAYLIGHT
BEGIN:STANDARD
TZOFFSETFROM:-0400
TZOFFSETTO:-0500
TZNAME:EST
DTSTART:20211107T060000
END:STANDARD
BEGIN:DAYLIGHT
TZOFFSETFROM:-0500
TZOFFSETTO:-0400
TZNAME:EDT
DTSTART:20220313T070000
END:DAYLIGHT
BEGIN:STANDARD
TZOFFSETFROM:-0400
TZOFFSETTO:-0500
TZNAME:EST
DTSTART:20221106T060000
END:STANDARD
BEGIN:DAYLIGHT
TZOFFSETFROM:-0500
TZOFFSETTO:-0400
TZNAME:EDT
DTSTART:20230312T070000
END:DAYLIGHT
BEGIN:STANDARD
TZOFFSETFROM:-0400
TZOFFSETTO:-0500
TZNAME:EST
DTSTART:20231105T060000
END:STANDARD
END:VTIMEZONE
BEGIN:VEVENT
DTSTART;TZID=UTC:20220907T130000
DTEND;TZID=UTC:20220907T140000
DTSTAMP:20260425T213655
CREATED:20220806T003736Z
LAST-MODIFIED:20220809T043632Z
UID:840-1662555600-1662559200@www.parkinsonpartners.org
SUMMARY:Zoom Support Group Meeting
DESCRIPTION:Join Parkinson Partners Zoom Support Group Meeting on September 7th\, 2022 at 1:00 p.m.\nAll are welcome. Join Zoom Meeting: https://us06web.zoom.us/j/93010770942?pwd=bzhTYTgxVElXV0pONnYwbEt5TnZzZz09
URL:https://www.parkinsonpartners.org/event/zoom-support-group-meeting-2/
END:VEVENT
BEGIN:VEVENT
DTSTART;TZID=America/New_York:20220913T180000
DTEND;TZID=America/New_York:20220913T180000
DTSTAMP:20260425T213655
CREATED:20220912T010603Z
LAST-MODIFIED:20220912T011445Z
UID:1295-1663092000-1663092000@www.parkinsonpartners.org
SUMMARY:Wegman’s PD Support Group
DESCRIPTION:Wegman’s PD Support Group will meet at the Peach Street Wegman’s in the dining area. All are welcome.
URL:https://www.parkinsonpartners.org/event/wegmans-pd-support-group/
LOCATION:Wegmans – Peach Street\, 6143 Peach Street\, Erie\, PA\, 16509
END:VEVENT
BEGIN:VEVENT
DTSTART;TZID=UTC:20220921T130000
DTEND;TZID=UTC:20220921T140000
DTSTAMP:20260425T213655
CREATED:20220806T004241Z
LAST-MODIFIED:20220809T043652Z
UID:842-1663765200-1663768800@www.parkinsonpartners.org
SUMMARY:Zoom Support Group Meeting
DESCRIPTION:Join Parkinson Partners Zoom Support Group Meeting on September 21st\, 2022 at 1:00 p.m.\nAll are welcome. Join Zoom Meeting: https://us06web.zoom.us/j/93010770942?pwd=bzhTYTgxVElXV0pONnYwbEt5TnZzZz09
URL:https://www.parkinsonpartners.org/event/zoom-support-group-meeting-3/
END:VEVENT
BEGIN:VEVENT
DTSTART;TZID=UTC:20220922T133000
DTEND;TZID=UTC:20220922T143000
DTSTAMP:20260425T213655
CREATED:20220806T004804Z
LAST-MODIFIED:20220809T043727Z
UID:844-1663853400-1663857000@www.parkinsonpartners.org
SUMMARY:Zoom Care Partner Group Meeting
DESCRIPTION:Join Parkinson Partners Zoom Care Partner Support Group Meeting on September 22nd\, 2022 at 1:30 p.m.\nAll care partners are welcome. Join Zoom Meeting: https://us06web.zoom.us/j/96391675305?pwd=ZHgxbXhnRS9GTGpKdlpTeURHSjJJdz09
URL:https://www.parkinsonpartners.org/event/zoom-care-partner-group-meeting-2/
END:VEVENT
BEGIN:VEVENT
DTSTART;TZID=America/New_York:20220926T113000
DTEND;TZID=America/New_York:20220926T113000
DTSTAMP:20260425T213655
CREATED:20220912T012042Z
LAST-MODIFIED:20220912T012042Z
UID:1306-1664191800-1664191800@www.parkinsonpartners.org
SUMMARY:Care Partner Only Lunch
DESCRIPTION:Join other Care Partners for lunch and conversation at Sara’s at Presque Isle
URL:https://www.parkinsonpartners.org/event/care-partner-only-lunch/
LOCATION:Sara’s Restaurant\, 25 Peninsula Dr.\, Erie\, PA\, 16505\, United States
END:VEVENT
END:VCALENDAR