BEGIN:VCALENDAR
VERSION:2.0
PRODID:-//Parkinson Partners - ECPv6.15.20//NONSGML v1.0//EN
CALSCALE:GREGORIAN
METHOD:PUBLISH
X-ORIGINAL-URL:https://www.parkinsonpartners.org
X-WR-CALDESC:Events for Parkinson Partners
REFRESH-INTERVAL;VALUE=DURATION:PT1H
X-Robots-Tag:noindex
X-PUBLISHED-TTL:PT1H
BEGIN:VTIMEZONE
TZID:America/New_York
BEGIN:DAYLIGHT
TZOFFSETFROM:-0500
TZOFFSETTO:-0400
TZNAME:EDT
DTSTART:20230312T070000
END:DAYLIGHT
BEGIN:STANDARD
TZOFFSETFROM:-0400
TZOFFSETTO:-0500
TZNAME:EST
DTSTART:20231105T060000
END:STANDARD
BEGIN:DAYLIGHT
TZOFFSETFROM:-0500
TZOFFSETTO:-0400
TZNAME:EDT
DTSTART:20240310T070000
END:DAYLIGHT
BEGIN:STANDARD
TZOFFSETFROM:-0400
TZOFFSETTO:-0500
TZNAME:EST
DTSTART:20241103T060000
END:STANDARD
BEGIN:DAYLIGHT
TZOFFSETFROM:-0500
TZOFFSETTO:-0400
TZNAME:EDT
DTSTART:20250309T070000
END:DAYLIGHT
BEGIN:STANDARD
TZOFFSETFROM:-0400
TZOFFSETTO:-0500
TZNAME:EST
DTSTART:20251102T060000
END:STANDARD
END:VTIMEZONE
BEGIN:VEVENT
DTSTART;TZID=America/New_York:20240306T130000
DTEND;TZID=America/New_York:20240306T140000
DTSTAMP:20260424T201959
CREATED:20240306T122137Z
LAST-MODIFIED:20240306T122137Z
UID:2126-1709730000-1709733600@www.parkinsonpartners.org
SUMMARY:Parkinson Partners Support Group Meeting via Zoom
DESCRIPTION: March 6th  at 1:00 PM.  \n  \nJoin Zoom Meeting: https://zoom.us/j/93010770942?pwd=bzhTYTgxVElXV0pONnYwbEt5TnZzZz09
URL:https://www.parkinsonpartners.org/event/parkinson-partners-support-group-meeting-via-zoom-16/
END:VEVENT
BEGIN:VEVENT
DTSTART;TZID=America/New_York:20240312T180000
DTEND;TZID=America/New_York:20240312T190000
DTSTAMP:20260424T201959
CREATED:20240306T122516Z
LAST-MODIFIED:20240306T122516Z
UID:2132-1710266400-1710270000@www.parkinsonpartners.org
SUMMARY:Evening PD Support Group
DESCRIPTION:Evening PD Support Group will be held on Tuesday\, March 12th at 6:00 PM at Springhill Retirement Community\, 2323 Edinboro Road (Community Room). \nWe will have a pot luck supper so please RSVP so we can plan. All are welcome.
URL:https://www.parkinsonpartners.org/event/evening-pd-support-group-2/
LOCATION:SpringHill Senior Living\, 2323 Edinboro Road\, Erie\, PA\, 16509\, United States
END:VEVENT
BEGIN:VEVENT
DTSTART;TZID=America/New_York:20240320T130000
DTEND;TZID=America/New_York:20240320T140000
DTSTAMP:20260424T201959
CREATED:20240306T122237Z
LAST-MODIFIED:20240306T122237Z
UID:2128-1710939600-1710943200@www.parkinsonpartners.org
SUMMARY:Parkinson Partners Support Group Meeting via Zoom
DESCRIPTION: March 20th at 1:00 PM.  \n  \nJoin Zoom Meeting: https://zoom.us/j/93010770942?pwd=bzhTYTgxVElXV0pONnYwbEt5TnZzZz09
URL:https://www.parkinsonpartners.org/event/parkinson-partners-support-group-meeting-via-zoom-17/
END:VEVENT
BEGIN:VEVENT
DTSTART;TZID=America/New_York:20240325T113000
DTEND;TZID=America/New_York:20240325T123000
DTSTAMP:20260424T201959
CREATED:20240306T122643Z
LAST-MODIFIED:20240306T122643Z
UID:2134-1711366200-1711369800@www.parkinsonpartners.org
SUMMARY:Care Partner Only Lunch
DESCRIPTION:Join other Care Partners for conversation at Wegman’s Café\, 6143 Peach St. on March 25th at 11:30 AM.
URL:https://www.parkinsonpartners.org/event/care-partner-only-lunch-15/
LOCATION:Wegmans – Peach Street\, 6143 Peach Street\, Erie\, PA\, 16509
END:VEVENT
BEGIN:VEVENT
DTSTART;TZID=America/New_York:20240328T133000
DTEND;TZID=America/New_York:20240328T143000
DTSTAMP:20260424T201959
CREATED:20240306T122354Z
LAST-MODIFIED:20240306T122354Z
UID:2130-1711632600-1711636200@www.parkinsonpartners.org
SUMMARY:Caregiver Only Zoom Meeting
DESCRIPTION:Caregiver Only Zoom Meeting on Thursday\, March 28th at 1:30 PM.   \n  \nJoin Zoom Meeting: https://us06web.zoom.us/j/96391675305
URL:https://www.parkinsonpartners.org/event/caregiver-only-zoom-meeting/
END:VEVENT
END:VCALENDAR