BEGIN:VCALENDAR
VERSION:2.0
PRODID:-//Parkinson Partners - ECPv6.15.20//NONSGML v1.0//EN
CALSCALE:GREGORIAN
METHOD:PUBLISH
X-WR-CALNAME:Parkinson Partners
X-ORIGINAL-URL:https://www.parkinsonpartners.org
X-WR-CALDESC:Events for Parkinson Partners
REFRESH-INTERVAL;VALUE=DURATION:PT1H
X-Robots-Tag:noindex
X-PUBLISHED-TTL:PT1H
BEGIN:VTIMEZONE
TZID:America/New_York
BEGIN:DAYLIGHT
TZOFFSETFROM:-0500
TZOFFSETTO:-0400
TZNAME:EDT
DTSTART:20230312T070000
END:DAYLIGHT
BEGIN:STANDARD
TZOFFSETFROM:-0400
TZOFFSETTO:-0500
TZNAME:EST
DTSTART:20231105T060000
END:STANDARD
BEGIN:DAYLIGHT
TZOFFSETFROM:-0500
TZOFFSETTO:-0400
TZNAME:EDT
DTSTART:20240310T070000
END:DAYLIGHT
BEGIN:STANDARD
TZOFFSETFROM:-0400
TZOFFSETTO:-0500
TZNAME:EST
DTSTART:20241103T060000
END:STANDARD
BEGIN:DAYLIGHT
TZOFFSETFROM:-0500
TZOFFSETTO:-0400
TZNAME:EDT
DTSTART:20250309T070000
END:DAYLIGHT
BEGIN:STANDARD
TZOFFSETFROM:-0400
TZOFFSETTO:-0500
TZNAME:EST
DTSTART:20251102T060000
END:STANDARD
END:VTIMEZONE
BEGIN:VEVENT
DTSTART;TZID=America/New_York:20240501T130000
DTEND;TZID=America/New_York:20240501T140000
DTSTAMP:20260424T173844
CREATED:20240419T170919Z
LAST-MODIFIED:20240419T170919Z
UID:2242-1714568400-1714572000@www.parkinsonpartners.org
SUMMARY:Eastside YMCA PD Support Group
DESCRIPTION:Eastside YMCA PD Support Group: Join us at the Eastside YMCA\, 2101 Nagle Road on Wednesday\, May 1st at 1:00 PM for our first meeting. All are welcome!
URL:https://www.parkinsonpartners.org/event/eastside-ymca-pd-support-group/
LOCATION:YMCA\, 2101 Nagle Road\, Erie\, PA\, 16511\, United States
END:VEVENT
BEGIN:VEVENT
DTSTART;TZID=America/New_York:20240514T180000
DTEND;TZID=America/New_York:20240514T193000
DTSTAMP:20260424T173844
CREATED:20240419T170506Z
LAST-MODIFIED:20240419T170506Z
UID:2238-1715709600-1715715000@www.parkinsonpartners.org
SUMMARY:Evening PD Support Group
DESCRIPTION:Evening PD Support Group will be held on Tuesday\, May 14th at 6:00 PM at Springhill Retirement Community\, 2323 Edinboro Road (Community Room). We will have a pizza party so please bring a few bucks to contribute towards the pizza and/or a snack or dish to share and your own drink.
URL:https://www.parkinsonpartners.org/event/evening-pd-support-group-4/
LOCATION:SpringHill Senior Living\, 2323 Edinboro Road\, Erie\, PA\, 16509\, United States
END:VEVENT
BEGIN:VEVENT
DTSTART;TZID=America/New_York:20240515T130000
DTEND;TZID=America/New_York:20240515T140000
DTSTAMP:20260424T173844
CREATED:20240419T170108Z
LAST-MODIFIED:20240419T170108Z
UID:2234-1715778000-1715781600@www.parkinsonpartners.org
SUMMARY:Parkinson Partners Support Group Meeting via Zoom
DESCRIPTION:Parkinson Partners Support Group Meeting via Zoom \n  \n  \nJoin Zoom Meeting: https://zoom.us/j/93010770942?pwd=bzhTYTgxVElXV0pONnYwbEt5TnZzZz09
URL:https://www.parkinsonpartners.org/event/parkinson-partners-support-group-meeting-via-zoom-20/
END:VEVENT
BEGIN:VEVENT
DTSTART;TZID=America/New_York:20240520T113000
DTEND;TZID=America/New_York:20240520T123000
DTSTAMP:20260424T173844
CREATED:20240419T170723Z
LAST-MODIFIED:20240419T170723Z
UID:2240-1716204600-1716208200@www.parkinsonpartners.org
SUMMARY:Care Partner Only Lunch
DESCRIPTION:Care Partner Only Lunch: Join other Care Partners for conversation on Monday\, May 20th at 11:30 AM at Sara’s on Presque Isle.
URL:https://www.parkinsonpartners.org/event/care-partner-only-lunch-17/
LOCATION:Sara’s Restaurant\, 25 Peninsula Dr.\, Erie\, PA\, 16505\, United States
END:VEVENT
BEGIN:VEVENT
DTSTART;TZID=America/New_York:20240523T133000
DTEND;TZID=America/New_York:20240523T143000
DTSTAMP:20260424T173844
CREATED:20240419T170258Z
LAST-MODIFIED:20240419T170258Z
UID:2236-1716471000-1716474600@www.parkinsonpartners.org
SUMMARY:Caregiver Only Zoom Meeting
DESCRIPTION:Caregiver Only Zoom Meeting on Thursday May 23rd at 1:30 PM.   \n  \nJoin Zoom Meeting: https://us06web.zoom.us/j/96391675305
URL:https://www.parkinsonpartners.org/event/caregiver-only-zoom-meeting-2/
END:VEVENT
END:VCALENDAR