BEGIN:VCALENDAR
VERSION:2.0
PRODID:-//Parkinson Partners - ECPv6.15.20//NONSGML v1.0//EN
CALSCALE:GREGORIAN
METHOD:PUBLISH
X-ORIGINAL-URL:https://www.parkinsonpartners.org
X-WR-CALDESC:Events for Parkinson Partners
REFRESH-INTERVAL;VALUE=DURATION:PT1H
X-Robots-Tag:noindex
X-PUBLISHED-TTL:PT1H
BEGIN:VTIMEZONE
TZID:America/New_York
BEGIN:DAYLIGHT
TZOFFSETFROM:-0500
TZOFFSETTO:-0400
TZNAME:EDT
DTSTART:20240310T070000
END:DAYLIGHT
BEGIN:STANDARD
TZOFFSETFROM:-0400
TZOFFSETTO:-0500
TZNAME:EST
DTSTART:20241103T060000
END:STANDARD
BEGIN:DAYLIGHT
TZOFFSETFROM:-0500
TZOFFSETTO:-0400
TZNAME:EDT
DTSTART:20250309T070000
END:DAYLIGHT
BEGIN:STANDARD
TZOFFSETFROM:-0400
TZOFFSETTO:-0500
TZNAME:EST
DTSTART:20251102T060000
END:STANDARD
BEGIN:DAYLIGHT
TZOFFSETFROM:-0500
TZOFFSETTO:-0400
TZNAME:EDT
DTSTART:20260308T070000
END:DAYLIGHT
BEGIN:STANDARD
TZOFFSETFROM:-0400
TZOFFSETTO:-0500
TZNAME:EST
DTSTART:20261101T060000
END:STANDARD
END:VTIMEZONE
BEGIN:VEVENT
DTSTART;TZID=America/New_York:20250205T130000
DTEND;TZID=America/New_York:20250205T140000
DTSTAMP:20260424T050837
CREATED:20250201T125100Z
LAST-MODIFIED:20250205T135652Z
UID:2591-1738760400-1738764000@www.parkinsonpartners.org
SUMMARY:Eastside YMCA PD Support Group
DESCRIPTION:Eastside YMCA PD Support Group: Join us at the Eastside YMCA\, 2101 Nagle Road  \nAll are welcome!
URL:https://www.parkinsonpartners.org/event/eastside-ymca-pd-support-group-9/
LOCATION:YMCA\, 2101 Nagle Road\, Erie\, PA\, 16511\, United States
END:VEVENT
BEGIN:VEVENT
DTSTART;TZID=America/New_York:20250211T180000
DTEND;TZID=America/New_York:20250211T190000
DTSTAMP:20260424T050837
CREATED:20250201T132002Z
LAST-MODIFIED:20250201T132002Z
UID:2610-1739296800-1739300400@www.parkinsonpartners.org
SUMMARY:Evening PD Support Group  Springhill Retirement Community
DESCRIPTION:Evening PD Support Group \nSpringhill Retirement Community\, 2323 Edinboro Road (Community Room). We will have a potluck so please bring a snack or dish to share and your own drink if you wish to join in the meal. Feel free to call/text 814-899-3030 for more information.
URL:https://www.parkinsonpartners.org/event/evening-pd-support-group-springhill-retirement-community-5/
LOCATION:SpringHill Senior Living\, 2323 Edinboro Road\, Erie\, PA\, 16509\, United States
END:VEVENT
BEGIN:VEVENT
DTSTART;TZID=America/New_York:20250219T080000
DTEND;TZID=America/New_York:20250219T170000
DTSTAMP:20260424T050837
CREATED:20240613T101809Z
LAST-MODIFIED:20240613T101809Z
UID:2322-1739952000-1739984400@www.parkinsonpartners.org
SUMMARY:Parkinson Partners Virtual Support Group Meeting
DESCRIPTION:Parkinson Partners Virtual Support Group Meeting \nTime: February 19\, 2025 01:00 PM Eastern Time (US and Canada) \nJoin Zoom Meeting \nhttps://us06web.zoom.us/j/93010770942?pwd=bzhTYTgxVElXV0pONnYwbEt5TnZzZz09 \nMeeting ID: 930 1077 0942 \nPasscode: 262311
URL:https://www.parkinsonpartners.org/event/parkinson-partners-virtual-support-group-meeting-20/
END:VEVENT
BEGIN:VEVENT
DTSTART;TZID=America/New_York:20250224T113000
DTEND;TZID=America/New_York:20250224T123000
DTSTAMP:20260424T050837
CREATED:20250201T132413Z
LAST-MODIFIED:20250201T132437Z
UID:2612-1740396600-1740400200@www.parkinsonpartners.org
SUMMARY:Care Partner Only Lunch
DESCRIPTION:Care Partner Only Lunch: Join other Care Partners for conversation on  at 11:30 AM at Wegman’s Café on Peach
URL:https://www.parkinsonpartners.org/event/care-partner-only-lunch-24/
LOCATION:Wegmans – Peach Street\, 6143 Peach Street\, Erie\, PA\, 16509
END:VEVENT
BEGIN:VEVENT
DTSTART;TZID=America/New_York:20250227T133000
DTEND;TZID=America/New_York:20250227T143000
DTSTAMP:20260424T050837
CREATED:20240613T103800Z
LAST-MODIFIED:20240827T211943Z
UID:2342-1740663000-1740666600@www.parkinsonpartners.org
SUMMARY:Parkinson Partners Care Partner Support Group via Zoom
DESCRIPTION:Parkinson Partners Care Partner Support Group \nTime: February 27\, 2025 01:30 PM Eastern Time (US and Canada) \nJoin Zoom Meeting \nhttps://us06web.zoom.us/j/96391675305 \nMeeting ID: 963 9167 5305
URL:https://www.parkinsonpartners.org/event/parkinson-partners-care-partner-support-group-14/
END:VEVENT
END:VCALENDAR